BEGIN:VCALENDAR
VERSION:2.0
PRODID:-//ChamberMaster//Event Calendar 2.0//EN
METHOD:PUBLISH
X-PUBLISHED-TTL:P3D
REFRESH-INTERVAL:P3D
CALSCALE:GREGORIAN
BEGIN:VEVENT
DTSTART;VALUE=DATE:20161126
DTEND;VALUE=DATE:20161127
TRANSP:TRANSPARENT
X-MICROSOFT-CDO-ALLDAYEVENT:TRUE
SUMMARY:SMALL BIZ DAY
DESCRIPTION:Come SHOP LOCAL in DOWNTOWN POTTSTOWN! We have specials from our local CHAMBER MEMBERS to help make it easy to shop and buy local this holiday season!\n\n	BEVERLY'S PASTRY SHOP   322 E High St / Make a $15 Purchase and get a FREE COOKIE or CUPCAKE!\n	CONNECTIONS ON HIGH -238 E High St / 10% OFF any purchase\n	GRUMPY'S HANDCARVED SANDWICHES   137 E High St / Buy $25 Gift Card for $20\n	LILY'S GRILL   115 E High St / 10% OFF Lunch / 10% OFF Gift Cards\n	STEEL RIVER PLAYHOUSE   245 E High St / 10% off gift certificate purchase / Get 2 Adult Ticket Gift Pack $50\n	Potts & Penn Diner - enjoy 10% Off Lunch between 11-3pm\n	BUY A HOLIDAY RAFFLE   238 E High St & Get a second picture with SANTA Dec 9/10th during the Hometown Holiday Events
X-ALT-DESC;FMTTYPE=text/html:Come SHOP LOCAL in DOWNTOWN POTTSTOWN! We have specials from our local CHAMBER MEMBERS to help make it easy to shop and buy local this holiday season!\n<ol style="list-style-type:lower-roman">\n	<li><strong>BEVERLY&rsquo\;S PASTRY SHOP</strong> &ndash\; 322 E High St / Make a $15 Purchase and get a FREE COOKIE or CUPCAKE!</li>\n	<li><strong>CONNECTIONS ON HIGH</strong> -238 E High St / 10% OFF any purchase</li>\n	<li><strong>GRUMPY&rsquo\;S HANDCARVED SANDWICHES</strong> &ndash\; 137 E High St / Buy $25 Gift Card for $20</li>\n	<li><strong>LILY&rsquo\;S GRILL</strong> &ndash\; 115 E High St / 10% OFF Lunch / 10% OFF Gift Cards</li>\n	<li><strong>STEEL RIVER PLAYHOUSE</strong> &ndash\; 245 E High St / 10% off gift certificate purchase / Get 2 Adult Ticket Gift Pack $50</li>\n	<li>Potts &amp\; Penn Diner - enjoy 10% Off Lunch between 11-3pm</li>\n	<li><strong>BUY A HOLIDAY RAFFLE &ndash\; </strong>238 E High St &amp\; Get a second picture with SANTA Dec 9/10<sup>th</sup> during the Hometown Holiday Events</li>\n</ol>\n
LOCATION:DOWNTOWN POTTSTOWN - 100-300 Blocks of High Street
UID:e.2183.847361
SEQUENCE:3
DTSTAMP:20260422T113133Z
URL:https://business.tricountyareachamber.com/events/details/small-biz-day-847361
END:VEVENT

END:VCALENDAR
