BEGIN:VCALENDAR
VERSION:2.0
PRODID:-//ChamberMaster//Event Calendar 2.0//EN
METHOD:PUBLISH
X-PUBLISHED-TTL:P3D
REFRESH-INTERVAL:P3D
CALSCALE:GREGORIAN
BEGIN:VEVENT
DTSTART:20210308T160000Z
DTEND:20210308T170000Z
X-MICROSOFT-CDO-ALLDAYEVENT:FALSE
SUMMARY:Small Business Marketing Part 2 - Myth Busting and Tactics including Social Media and Content Strategies
DESCRIPTION:In this free webinar hosted by SCORE Tri-County\, Tom Elmer will continue to provide information on Small Business Marketing to help you find new customers\, make more money\, & beat your competition without a big budget.\n\n\n\nRandom acts of marketing will never work. It has never been harder to grow and sustain a business than today in this age of disruption.\n\n\n\nIn 2015\, 76% of marketers surveyed by Adobe claimed that marketing had changed more in the last two years than it had in all the years since the birth of television advertising. An analysis of 101 start-up failures found that eight of the top 10 reasons were marketing related: no market need\, get outcompeted\, pricing issues\, user unfriendly product\, poor business model etc.\n\n\n\nThis follow on session will cover: Website. Social Media. Content. Measurement. Myth Busting.
X-ALT-DESC;FMTTYPE=text/html:<span style="color: rgb(35\, 35\, 51)\; font-family: Lato\, Helvetica\, Arial\; font-size: 14px\; background-color: rgb(255\, 255\, 255)\;">In this free webinar hosted by SCORE Tri-County\, Tom Elmer will continue to provide information on Small Business Marketing to help you find new customers\, make more money\, &amp\; beat your competition&hellip\;without a big budget.</span><br style="box-sizing: border-box\; color: rgb(35\, 35\, 51)\; font-family: Lato\, Helvetica\, Arial\; font-size: 14px\; background-color: rgb(255\, 255\, 255)\;" />\n<br style="box-sizing: border-box\; color: rgb(35\, 35\, 51)\; font-family: Lato\, Helvetica\, Arial\; font-size: 14px\; background-color: rgb(255\, 255\, 255)\;" />\n<span style="color: rgb(35\, 35\, 51)\; font-family: Lato\, Helvetica\, Arial\; font-size: 14px\; background-color: rgb(255\, 255\, 255)\;">Random acts of marketing will never work. It has never been harder to grow and sustain a business than today in this age of disruption.</span><br style="box-sizing: border-box\; color: rgb(35\, 35\, 51)\; font-family: Lato\, Helvetica\, Arial\; font-size: 14px\; background-color: rgb(255\, 255\, 255)\;" />\n<br style="box-sizing: border-box\; color: rgb(35\, 35\, 51)\; font-family: Lato\, Helvetica\, Arial\; font-size: 14px\; background-color: rgb(255\, 255\, 255)\;" />\n<span style="color: rgb(35\, 35\, 51)\; font-family: Lato\, Helvetica\, Arial\; font-size: 14px\; background-color: rgb(255\, 255\, 255)\;">In 2015\, 76% of marketers surveyed by Adobe claimed that marketing had changed more in the last two years than it had in all the years since the birth of television advertising. An analysis of 101 start-up failures found that eight of the top 10 reasons were marketing related: no market need\, get outcompeted\, pricing issues\, user unfriendly product\, poor business model etc.</span><br style="box-sizing: border-box\; color: rgb(35\, 35\, 51)\; font-family: Lato\, Helvetica\, Arial\; font-size: 14px\; background-color: rgb(255\, 255\, 255)\;" />\n<br style="box-sizing: border-box\; color: rgb(35\, 35\, 51)\; font-family: Lato\, Helvetica\, Arial\; font-size: 14px\; background-color: rgb(255\, 255\, 255)\;" />\n<span style="color: rgb(35\, 35\, 51)\; font-family: Lato\, Helvetica\, Arial\; font-size: 14px\; background-color: rgb(255\, 255\, 255)\;">This follow on session will cover: Website. Social Media. Content. Measurement. Myth Busting.</span>
LOCATION:
UID:e.2183.856511
SEQUENCE:3
DTSTAMP:20260423T231207Z
URL:https://business.tricountyareachamber.com/events/details/small-business-marketing-part-2-myth-busting-and-tactics-including-social-media-and-content-strategies-856511
END:VEVENT

END:VCALENDAR
