BEGIN:VCALENDAR
VERSION:2.0
PRODID:-//ChamberMaster//Event Calendar 2.0//EN
METHOD:PUBLISH
X-PUBLISHED-TTL:P3D
REFRESH-INTERVAL:P3D
CALSCALE:GREGORIAN
BEGIN:VEVENT
DTSTART:20170711T210000Z
DTEND:20170712T000000Z
X-MICROSOFT-CDO-ALLDAYEVENT:FALSE
SUMMARY:Small Business Road Show
DESCRIPTION:The Montgomery County Commerce Department is proud to partner with the Greater Philadelphia Hispanic Chamber of Commerce who is currently on a roadshow around the SE region engaging with Hispanic business owners and discussing the 5 Pillars of business and assist them through each phase of the business cycle: starting a business\, sustaining a business\, and then expanding a business. The expert panel will kick off the discussion\, then attendees will break out into small groups to engage in a one on one style with experts located in Montgomery County. Each break out session addresses one of the Pillars of business.\n\n \n\n5 Pillars of Business:\n\n\n	Business Plan & Business Strategy\n	Online Presence & Leveraging Social Media\n	Financial & Accounting\n	Legal\n	Access to Capital\n\n\n\nAttendees will also learn about the available resources and services offered by local businesses and county departments that serve the business community.\n\n \n\nWe hope to effectively bring information and resources to the Hispanic business community in Montgomery County at this forum.
X-ALT-DESC;FMTTYPE=text/html:The Montgomery County Commerce Department is proud to partner with the Greater Philadelphia Hispanic Chamber of Commerce who is currently on a roadshow around the SE region engaging with Hispanic business owners and discussing the 5 Pillars of business and assist them through each phase of the business cycle: starting a business\, sustaining a business\, and then expanding a business. The expert panel will kick off the discussion\, then attendees will break out into small groups to engage in a one on one style with experts located in Montgomery County. Each break out session addresses one of the Pillars of business.<br />\n&nbsp\;<br />\n<em><strong>5 Pillars of Business</strong></em>:\n\n<ul>\n	<li>Business Plan &amp\; Business Strategy</li>\n	<li>Online Presence &amp\; Leveraging Social Media</li>\n	<li>Financial &amp\; Accounting</li>\n	<li>Legal</li>\n	<li>Access to Capital</li>\n</ul>\n<br />\nAttendees will also learn about the available resources and services offered by local businesses and county departments that serve the business community.<br />\n&nbsp\;<br />\nWe hope to effectively bring information and resources to the Hispanic business community in Montgomery County at this forum.&nbsp\;
LOCATION:Human Services Center: 1430 DeKalb Street Norristown\, PA 19401 1st Floor Community Room
UID:e.2183.848722
SEQUENCE:3
DTSTAMP:20260421T010641Z
URL:https://business.tricountyareachamber.com/events/details/small-business-road-show-848722
END:VEVENT

END:VCALENDAR
