BEGIN:VCALENDAR
VERSION:2.0
PRODID:-//ChamberMaster//Event Calendar 2.0//EN
METHOD:PUBLISH
X-PUBLISHED-TTL:P3D
REFRESH-INTERVAL:P3D
CALSCALE:GREGORIAN
BEGIN:VEVENT
DTSTART:20171213T140000Z
DTEND:20171213T153000Z
X-MICROSOFT-CDO-ALLDAYEVENT:FALSE
SUMMARY:Social Media Training
DESCRIPTION:Are you looking to increase the effectiveness of your online marketing campaigns?  \n\n \n\nAdrean Turner will share best practices to increase social media engagement by planning\, goal setting\, budgeting and creating compelling content.\n\n\n\nOnly 35 seats available - register by clicking here.
X-ALT-DESC;FMTTYPE=text/html:<strong><span style="font-family:comic sans ms\;"><span style="font-size:13.5pt\;">Are you looking to increase the effectiveness of your online marketing campaigns?</span></span></strong>&nbsp\;&nbsp\;<br />\n&nbsp\;<br />\n<span style="font-family:comic sans ms\;"><span style="font-size:13.5pt\;">Adrean Turner will share best practices to increase social media engagement by planning\, goal setting\, budgeting and creating compelling content.<br />\n<br />\nOnly 35 seats available - register by <a href="https://tcnetwork.org/event/social-media-training/">clicking here</a>.&nbsp\;</span></span>
LOCATION:TriCounty Area Chamber of Commerce 152 E. High St.\, Suite 360 Pottstown\, PA 19464 There is limited parking available in the lot at the Security Trust Building at 152 High St. You must have a permit to park in a reserved space or you may be ticketed. Parking is available on High St. for up to 3 hours at no charge\, or in the Freight Station Municipal lot\, across the railroad tracks (enter off Hanover St.) for 10 per hour.
UID:e.2183.849109
SEQUENCE:3
DTSTAMP:20260421T080050Z
URL:https://business.tricountyareachamber.com/events/details/social-media-training-849109
END:VEVENT

END:VCALENDAR
