BEGIN:VCALENDAR
VERSION:2.0
PRODID:-//ChamberMaster//Event Calendar 2.0//EN
METHOD:PUBLISH
X-PUBLISHED-TTL:P3D
REFRESH-INTERVAL:P3D
CALSCALE:GREGORIAN
BEGIN:VEVENT
DTSTART:20171018T123000Z
DTEND:20171018T140000Z
X-MICROSOFT-CDO-ALLDAYEVENT:FALSE
SUMMARY:Speed Networking - Drive Your Success at Productivity Pointe\, LLC
DESCRIPTION:This FREE NETWORKING EVENT is open to all local business entrepreneurs\, freelancers and start-ups.\n\n\n\nIt's fast and it's fun. It's sort of like speed dating for professionals. Speed networking is a structured rotation process that facilitates introductions and conversation between potential customers and colleagues who don't yet know each other  in a very short period of time. \n\n\n\nPrint up extra business cards and register today! \n\n\n\nBefore the event\, we will contact you with specifics and suggestions for how to best benefit from this exciting networking experience.\n\n\n\nSCHEDULE\n\n8:30AM: Coffee/Tea (aka: bonus networking!)\n\n9:00AM: Gather for instructions and ask questions\n\n9:00-10:00AM: Speed Networking Hour!\n\n10:00AM: Everyone is welcome to linger and continue networking as needed. Tours of our co-working space will be given on request.\n\n\n\nPRE-REGISTRATION IS REQUIRED\n\nEmail coworking@productivitypointe.com to reserve your seat today!
X-ALT-DESC;FMTTYPE=text/html:<span style="color:rgb(75\, 79\, 86)\; font-family:helvetica\,arial\,sans-serif\; font-size:14px">This FREE NETWORKING EVENT is open to all local business entrepreneurs\, freelancers and start-ups.</span><br />\n<br />\n<span style="color:rgb(75\, 79\, 86)\; font-family:helvetica\,arial\,sans-serif\; font-size:14px">It&#39\;s fast and it&#39\;s fun. It&#39\;s sort of like speed dating for professionals. Speed networking is a structured rotation process that facilitates introductions and conversation between potential customers and colleagues who don&#39\;t yet know each other&mdash\; in a very short period of time.&nbsp\;</span><br />\n<br />\n<span style="color:rgb(75\, 79\, 86)\; font-family:helvetica\,arial\,sans-serif\; font-size:14px">Print up extra business cards and register today!&nbsp\;</span><br />\n<br />\n<span style="color:rgb(75\, 79\, 86)\; font-family:helvetica\,arial\,sans-serif\; font-size:14px">Before the event\, we will contact you with specifics and suggestions for how to best benefit from this exciting networking experience.</span><br />\n<br />\n<span style="color:rgb(75\, 79\, 86)\; font-family:helvetica\,arial\,sans-serif\; font-size:14px">SCHEDULE</span><br />\n<span style="color:rgb(75\, 79\, 86)\; font-family:helvetica\,arial\,sans-serif\; font-size:14px">8:30AM: Coffee/Tea (aka: bonus networking!)</span><br />\n<span style="color:rgb(75\, 79\, 86)\; font-family:helvetica\,arial\,sans-serif\; font-size:14px">9:00AM: Gather for instructions and ask questions</span><br />\n<span style="color:rgb(75\, 79\, 86)\; font-family:helvetica\,arial\,sans-serif\; font-size:14px">9:00-10:00AM: Speed Networking Hour!</span><br />\n<span style="color:rgb(75\, 79\, 86)\; font-family:helvetica\,arial\,sans-serif\; font-size:14px">10:00AM: Everyone is welcome to linger and continue networking as needed. Tours of our co-working space will be given on request.<br />\n<br />\nPRE-REGISTRATION IS REQUIRED<br />\n<span style="font-family:inherit">Email coworking@productivitypoin</span>te.com to reserve your seat today!</span>
LOCATION:Productivity Pointe\, LLC 152 E High St Suite 440 Pottstown PA 19464
UID:e.2183.848816
SEQUENCE:3
DTSTAMP:20260421T042813Z
URL:https://business.tricountyareachamber.com/events/details/speed-networking-drive-your-success-at-productivity-pointe-llc-848816
END:VEVENT

END:VCALENDAR
