BEGIN:VCALENDAR
VERSION:2.0
PRODID:-//ChamberMaster//Event Calendar 2.0//EN
METHOD:PUBLISH
X-PUBLISHED-TTL:P3D
REFRESH-INTERVAL:P3D
CALSCALE:GREGORIAN
BEGIN:VEVENT
DTSTART:20160719T120000Z
DTEND:20160719T140000Z
X-MICROSOFT-CDO-ALLDAYEVENT:FALSE
SUMMARY:Speed Networking with R3
DESCRIPTION:Build your business contacts with a group of 30 professional business members in a time efficient manner. Structured and fast-paced\, it allows participants to interact one-on-one for a set period of time. Bring plenty of business cards. This event is limited to an additional 10 Members and only one per company. \n\n\n\nMembers only\; $15 per Member
X-ALT-DESC;FMTTYPE=text/html:Build your business contacts with a group of 30 professional business members in a time efficient manner. Structured and fast-paced\, it allows participants to interact one-on-one for a set period of time. Bring plenty of business cards.&nbsp\;<strong>This event is limited to an additional 10 Members and only one per company.&nbsp\;</strong><br />\n<br />\n<span style="font-size:10px\;"><span style="color:#FF0000\;">Members only\; $15 per Member</span></span>
LOCATION:Chamber Conference Room 152 E. High St.\, Suite 360 Pottstown\, PA 19464
UID:e.2183.845980
SEQUENCE:3
DTSTAMP:20260425T111241Z
URL:https://business.tricountyareachamber.com/events/details/speed-networking-with-r3-07-19-2016-845980
END:VEVENT

END:VCALENDAR
