BEGIN:VCALENDAR
VERSION:2.0
PRODID:-//ChamberMaster//Event Calendar 2.0//EN
METHOD:PUBLISH
X-PUBLISHED-TTL:P3D
REFRESH-INTERVAL:P3D
CALSCALE:GREGORIAN
BEGIN:VEVENT
DTSTART:20250214T223000Z
DTEND:20250216T020000Z
X-MICROSOFT-CDO-ALLDAYEVENT:FALSE
SUMMARY:Spring Hollow Golf Club Valentines Day Dinner
DESCRIPTION:View flyer and menu here
X-ALT-DESC;FMTTYPE=text/html:<span style="font-size:18px\;"><a href="https://chambermaster.blob.core.windows.net/userfiles/UserFiles/chambers/2183/File/ValentinesDayFlyerandMenu4.pdf">View flyer and menu here</a></span>
LOCATION:
UID:e.2183.861630
SEQUENCE:3
DTSTAMP:20260421T161135Z
URL:https://business.tricountyareachamber.com/events/details/spring-hollow-golf-club-valentines-day-dinner-861630
END:VEVENT

END:VCALENDAR
