BEGIN:VCALENDAR
VERSION:2.0
PRODID:-//ChamberMaster//Event Calendar 2.0//EN
METHOD:PUBLISH
X-PUBLISHED-TTL:P3D
REFRESH-INTERVAL:P3D
CALSCALE:GREGORIAN
BEGIN:VEVENT
DTSTART:20170511T180000Z
DTEND:20170511T230000Z
X-MICROSOFT-CDO-ALLDAYEVENT:FALSE
SUMMARY:Spring Job Fair
DESCRIPTION:Join us at the Philadelphia Premium Outlets on Thursday\, May 11th for our career fair. There are over 40 retailers hiring for over 130 available positions!  Get an on site interview\, and get hired! For more details\, visit http://www.premiumoutlets.com/outlet/philadelphia/stream/philadelphia-job-fair-5037092.
X-ALT-DESC;FMTTYPE=text/html:<span style="color:rgb(0\, 0\, 0)\; font-family:simoncircularpro-book\,sans-serif\; font-size:15.96px">Join us at the Philadelphia Premium Outlets on Thursday\, May 11th for our career fair. There are over 40 retailers hiring for over&nbsp\;130 available positions! &nbsp\;Get an on site interview\, and get hired! For more details\, visit&nbsp\;</span>http://www.premiumoutlets.com/outlet/philadelphia/stream/philadelphia-job-fair-5037092.<br />\n<br />\n&nbsp\;
LOCATION:Located in the food court
UID:e.2183.847664
SEQUENCE:3
DTSTAMP:20260420T213314Z
URL:https://business.tricountyareachamber.com/events/details/spring-job-fair-847664
END:VEVENT

END:VCALENDAR
