BEGIN:VCALENDAR
VERSION:2.0
PRODID:-//ChamberMaster//Event Calendar 2.0//EN
METHOD:PUBLISH
X-PUBLISHED-TTL:P3D
REFRESH-INTERVAL:P3D
CALSCALE:GREGORIAN
BEGIN:VEVENT
DTSTART;VALUE=DATE:20241024
DTEND;VALUE=DATE:20241026
TRANSP:TRANSPARENT
X-MICROSOFT-CDO-ALLDAYEVENT:TRUE
SUMMARY:State Services Day - Berks and Montgomery counties
DESCRIPTION:On October 24th\, I am hosting a State Services Day in both Berks and Montgomery counties. I will be joined by state Treasurer Stacy Garrity. Residents are invited to learn about an array of available state programs and services along with possibly finding unclaimed property.\n\nTo accommodate individuals in both Berks and Montgomery counties\, the event will be held in two locations on the same day. \n\nIn Berks County from 9-11 a.m. at the Eastern Berks Fire Department\, 1817 N. Main St. in Bechtelsville. \n\nIn Montgomery County from 1-3 p.m. at the Schwenksville Borough Hall\, 300 Main St. in Schwenksville.\n\nThe following will be at both locations:\n\n	Find Unclaimed Property and submit claims with the assistance of PA Treasury staff.\n	PA Department of Military and Veterans Affairs\, along with county veteran agencies\, will be available to aid and inform veterans.\n	PA State Police will provide information on public safety.\n	PennDOT Bureau of Motor Vehicles and Driver Licensing will answer questions\, provide information\, and process license plate renewals.\n	Berks Area Agency on Aging and Montgomery County Senior Services will offer assistance and education for local seniors.\n\nAdditional services will include assistance with senior SEPTA pass applications\, birth certificates and more.\n\nFor more information or to register for this free event go to www.senatorpennycuick.com or call 215-541-2388.
X-ALT-DESC;FMTTYPE=text/html:<span style="color:black\;"><span style="font-family:calibri\,sans-serif\;">On October 24<sup>th</sup>\, I am hosting a State Services Day in both Berks and Montgomery counties. I will be joined by state Treasurer Stacy Garrity. Residents are invited to learn about an array of available state programs and services along with possibly finding unclaimed property.</span></span><br />\n<span style="color:black\;"><span style="font-family:calibri\,sans-serif\;">To accommodate individuals in both Berks and Montgomery counties\, the event will be held in two locations on the same day. </span></span><br />\n<span style="font-family:calibri\,sans-serif\;">In Berks County from 9-11 a.m. at the Eastern Berks Fire Department\, 1817 N. Main St. in Bechtelsville. </span><br />\n<span style="font-family:calibri\,sans-serif\;">In Montgomery County from 1-3 p.m. at the Schwenksville Borough Hall\, 300 Main St. in Schwenksville.</span><br />\n<span style="font-family:calibri\,sans-serif\;">The following will be at both locations:</span>\n<ul>\n	<li style="text-align:justify\;"><span style="font-family:calibri\,sans-serif\;">Find Unclaimed Property and submit claims with the assistance of PA Treasury staff.</span></li>\n	<li style="text-align:justify\;"><span style="font-family:calibri\,sans-serif\;">PA Department of Military and Veterans Affairs\, along with county veteran agencies\, will be available to aid and inform veterans.</span></li>\n	<li style="text-align:justify\;"><span style="font-family:calibri\,sans-serif\;">PA State Police will provide information on public safety.</span></li>\n	<li style="text-align:justify\;"><span style="font-family:calibri\,sans-serif\;">PennDOT Bureau of Motor Vehicles and Driver Licensing will answer questions\, provide information\, and process license plate renewals.</span></li>\n	<li style="text-align:justify\;"><span style="font-family:calibri\,sans-serif\;">Berks Area Agency on Aging and Montgomery County Senior Services will offer assistance and education for local seniors.</span></li>\n</ul>\n<span style="font-family:calibri\,sans-serif\;">Additional services will include assistance with senior SEPTA pass applications\, birth certificates and more.</span><br />\n<span style="color:black\;"><span style="font-family:calibri\,sans-serif\;">For more information or to r</span></span><span style="font-family:calibri\,sans-serif\;">egister for this free event go to <a href="http://www.senatorpennycuick.com/"><em>www.senatorpennycuick.com</em></a> or call 215-541-2388.</span>
LOCATION:
UID:e.2183.861498
SEQUENCE:3
DTSTAMP:20260421T125931Z
URL:https://business.tricountyareachamber.com/events/details/state-services-day-berks-and-montgomery-counties-861498
END:VEVENT

END:VCALENDAR
