BEGIN:VCALENDAR
VERSION:2.0
PRODID:-//ChamberMaster//Event Calendar 2.0//EN
METHOD:PUBLISH
X-PUBLISHED-TTL:P3D
REFRESH-INTERVAL:P3D
CALSCALE:GREGORIAN
BEGIN:VEVENT
DTSTART:20170525T213000Z
DTEND:20170526T010000Z
X-MICROSOFT-CDO-ALLDAYEVENT:FALSE
SUMMARY:Steak & Burger Diner
DESCRIPTION:Join us this year in celebrating the spirit and mission of Olivet Boys & Girls Club during our 27th Annual Steak & Burger Dinner\, Thursday\, May 25th at the Crowne Plaza\, Wyomissing. \n\n \n\nOlivet provides career and college readiness programs\, summer camp opportunities and positive role models who foster important life values such as good character and citizenship in our Club members. In addition\, over the past year:\n\n	95% of Club members stayed away from tobacco\, alcohol and other drugs.\n	95% of Club members expect to complete high school.\n	99% of Club members feel they have great Leadership Skills\n\nYou can join our Title Sponsor\, Penske Truck Rental Leasing Logistics\, and help support the 3\,000 plus youth we serve by sponsoring this year's Steak & Burger Dinner. Enclosed please find an informational sponsorship piece and reservation form for your consideration.  A Steak & Burger Committee member will be calling you in the next few weeks to follow up with this request.\n\n \n\nThe Dinner provides the stage for us to showcase the accomplishments and talents of Olivet Boys & Girls Club members. Additionally\, we will be honoring our 2017 Champions of Youth\, Pat & Meg Shields\, our Youth of the Year\, Julian Smith and six outstanding Club youth in our priority impact areas of Academic Success\, Good Character & Citizenship\, and Healthy Lifestyles\n\n \n\nWe hope you will consider joining us for the Dinner in order to help us continue to serve the at-risk youth in our community.  Past\, present and future - we enable young people to reach their full potential as healthy\, productive\, caring and responsible citizens.  We ask you to join us in this mission.  As we continue to serve the at-risk youth in our community.\n\n\n\nGREAT FUTURES START HERE.
X-ALT-DESC;FMTTYPE=text/html:<span style="font-size:10.0pt">Join us this year in celebrating the spirit and mission of Olivet Boys &amp\; Girls Club during our 27<sup>th</sup> Annual Steak &amp\; Burger Dinner\, Thursday\, May 25<sup>th</sup> at the Crowne Plaza\, Wyomissing. </span><br />\n&nbsp\;<br />\n<span style="font-size:10.0pt">Olivet provides career and college readiness programs\, summer camp opportunities and positive role models who foster important life values such as good character and citizenship in our Club members. In addition\, over the past year:</span>\n<ul style="list-style-type:circle">\n	<li><span style="font-size:10.0pt">95% of Club members stayed away from tobacco\, alcohol and other drugs.</span></li>\n	<li><span style="font-size:10.0pt">95% of Club members expect to complete high school.</span></li>\n	<li><span style="font-size:10.0pt">99% of Club members feel they have great Leadership Skills</span></li>\n</ul>\n<span style="font-size:10.0pt">You can join our Title Sponsor\, Penske Truck Rental Leasing Logistics\, and help support the 3\,000 plus youth we serve by sponsoring this year&rsquo\;s Steak &amp\; Burger Dinner. Enclosed please find an informational sponsorship piece and reservation form for your consideration.&nbsp\; A Steak &amp\; Burger Committee member will be calling you in the next few weeks to follow up with this request.</span><br />\n&nbsp\;<br />\n<span style="font-size:10.0pt">The Dinner provides the stage for us to showcase the accomplishments and talents of Olivet Boys &amp\; Girls Club members. Additionally\, we will be honoring our 2017 Champions of Youth\, Pat &amp\; Meg Shields\, our Youth of the Year\, Julian Smith and six outstanding Club youth in our priority impact areas of Academic Success\, Good Character &amp\; Citizenship\, and Healthy Lifestyles</span><br />\n&nbsp\;<br />\n<span style="font-size:10.0pt">We hope you will consider joining us for the Dinner in order to help us continue to serve the at-risk youth in our community. &nbsp\;Past\, present and future - we enable young people to reach their full potential as healthy\, productive\, caring and responsible citizens.&nbsp\; We ask you to join us in this mission. &nbsp\;As we continue to serve the at-risk youth in our community.<br />\n<br />\nGREAT FUTURES START HERE.</span><br />\n&nbsp\;
LOCATION:Crowne Plaza Reading
UID:e.2183.847627
SEQUENCE:3
DTSTAMP:20260420T213314Z
URL:https://business.tricountyareachamber.com/events/details/steak-burger-diner-847627
END:VEVENT

END:VCALENDAR
