BEGIN:VCALENDAR
VERSION:2.0
PRODID:-//ChamberMaster//Event Calendar 2.0//EN
METHOD:PUBLISH
X-PUBLISHED-TTL:P3D
REFRESH-INTERVAL:P3D
CALSCALE:GREGORIAN
BEGIN:VEVENT
DTSTART:20170121T210000Z
DTEND:20170122T010000Z
X-MICROSOFT-CDO-ALLDAYEVENT:FALSE
SUMMARY:Storytelling Through Dance
DESCRIPTION:Public Workshop and Performance \nBarrio Alegria Dance company is based in Reading\, PA. Led by executive director Daniel Egusquiza and a group of talented\, dedicated dancers and choreographers\, this grassroots\, community-driven team strives to study and overcome life challenges through technique\, storytelling\, and performance. Barrio regularly performs in the studio and on the streets of the City of Reading\, and has presented community workshops in Pennsylvania\, New York\, and New Jersey.\n\n\n\nRegister Now.
X-ALT-DESC;FMTTYPE=text/html:<div style="text-align: center\;"><span style="font-size:14px\;"><strong>Public Workshop and Performance&nbsp\;</strong></span></div>\nBarrio Alegria Dance company is based in Reading\, PA. Led by executive director Daniel Egusquiza and a group of talented\, dedicated dancers and choreographers\, this grassroots\, community-driven team strives to study and overcome life challenges through technique\, storytelling\, and performance. Barrio regularly performs in the studio and on the streets of the City of Reading\, and has presented community workshops in Pennsylvania\, New York\, and New Jersey.<br />\n<br />\n<a href="https://www.eventbrite.com/edit?eid=30471402786">Register Now</a>.
LOCATION:The Hill School 860 Beech Street Pottstown\, PA 19464
UID:e.2183.847418
SEQUENCE:3
DTSTAMP:20260420T132233Z
URL:https://business.tricountyareachamber.com/events/details/storytelling-through-dance-847418
END:VEVENT

END:VCALENDAR
