BEGIN:VCALENDAR
VERSION:2.0
PRODID:-//ChamberMaster//Event Calendar 2.0//EN
METHOD:PUBLISH
X-PUBLISHED-TTL:P3D
REFRESH-INTERVAL:P3D
CALSCALE:GREGORIAN
BEGIN:VEVENT
DTSTART:20230610T150000Z
DTEND:20230610T190000Z
X-MICROSOFT-CDO-ALLDAYEVENT:FALSE
SUMMARY:Strawberry Festival
DESCRIPTION:Facebook
X-ALT-DESC;FMTTYPE=text/html:<a href="https://www.facebook.com/photo?fbid=544883764521688&amp\;set=a.474843328192399">Facebook</a>
LOCATION:
UID:e.2183.858622
SEQUENCE:3
DTSTAMP:20260422T121608Z
URL:https://business.tricountyareachamber.com/events/details/strawberry-festival-858622
END:VEVENT

END:VCALENDAR
