BEGIN:VCALENDAR
VERSION:2.0
PRODID:-//ChamberMaster//Event Calendar 2.0//EN
METHOD:PUBLISH
X-PUBLISHED-TTL:P3D
REFRESH-INTERVAL:P3D
CALSCALE:GREGORIAN
BEGIN:VEVENT
DTSTART:20170609T220000Z
DTEND:20170610T010000Z
X-MICROSOFT-CDO-ALLDAYEVENT:FALSE
SUMMARY:Strawberry Moon Picnic
DESCRIPTION:Explore the mysteries of the "Strawberry Moon" at Welkinweir!\n\nPack a picnic dinner and watch the moon rise over the Welkinweir ponds and forest! Explore the arboretum gardens after hours\, take in a live birds of prey presentation\, and enjoy s'mores and lemonade around a campfire as the full moon rises.\n\nThis event is free and open to all ages\; donations are welcome. Registration is encouraged: please RSVP online here.\n\nLemonade\, water\, and s'mores are provided. BYOB. Rain or shine.
X-ALT-DESC;FMTTYPE=text/html:<h2 style="text-shadow: rgb(255\, 255\, 255) 0px 1px 0px\; margin: 11px 0px\; font-family: Montserrat\; font-weight: 400\; font-size: 28px\; line-height: 28px\; background-color: rgb(250\, 250\, 250)\;">Explore the mysteries of the &ldquo\;Strawberry Moon&rdquo\; at Welkinweir!</h2>\n\n<p style="margin: 0px 0px 10px\; font-size: 16px\; line-height: 1.7\; font-family: Neuton\; background-color: rgb(250\, 250\, 250)\;">Pack a picnic dinner and watch the moon rise over the Welkinweir ponds and forest! Explore the arboretum gardens after hours\, take in a live birds of prey presentation\, and enjoy s&rsquo\;mores and lemonade around a campfire as the full moon rises.</p>\n\n<p style="margin: 0px 0px 10px\; font-size: 16px\; line-height: 1.7\; font-family: Neuton\; background-color: rgb(250\, 250\, 250)\;"><em>This event is free and open to all ages\; donations are welcome.&nbsp\;Registration is encouraged:&nbsp\;<a href="https://greenvalleysassociationofsoutheasternpa.formstack.com/forms/strawberry_moon_picnic_2017" rel="noopener noreferrer" style="color: rgb(0\, 136\, 204)\; text-decoration-line: none\; transition-property: border\, background\, color\; transition-duration: 0.15s\; transition-timing-function: ease-in-out\;" target="_blank">please RSVP online here</a>.</em></p>\n\n<p style="margin: 0px 0px 10px\; font-size: 16px\; line-height: 1.7\; font-family: Neuton\; background-color: rgb(250\, 250\, 250)\;"><em>Lemonade\, water\, and s&rsquo\;mores are provided. BYOB. Rain or shine.</em></p>\n
LOCATION:Welkinweir 1368 Prizer Road Pottstown\, PA 19465
UID:e.2183.847686
SEQUENCE:3
DTSTAMP:20260420T213438Z
URL:https://business.tricountyareachamber.com/events/details/strawberry-moon-picnic-847686
END:VEVENT

END:VCALENDAR
