BEGIN:VCALENDAR
VERSION:2.0
PRODID:-//ChamberMaster//Event Calendar 2.0//EN
METHOD:PUBLISH
X-PUBLISHED-TTL:P3D
REFRESH-INTERVAL:P3D
CALSCALE:GREGORIAN
BEGIN:VEVENT
DTSTART:20210621T220000Z
DTEND:20210622T010000Z
X-MICROSOFT-CDO-ALLDAYEVENT:FALSE
SUMMARY:Summer Solstice Party
DESCRIPTION:With the arrival of summer\, enjoy the beauty of nature and the produce that is grown in the coming months. Join Mosaic Community Land Trust supporters\, members\, friends and family at their Third Annual Summer Solstice Party.\n\nFunds raised from this event will support Mosaic's Community Garden Program and CSA scholarship program. Both benefiting residents of the Pottstown community.\n\nHosted at the Kneehigh Farm. Enjoy food\, beer and cocktails\, music\, raffles\, and the property\, all while supporting a great cause! Food and beverages provided by local establishments. \n\n21+ preferred. This event will be capped at 75 guests. Sign up as soon as possible!
X-ALT-DESC;FMTTYPE=text/html:<div class="kvgmc6g5 cxmmr5t8 oygrvhab hcukyx3x c1et5uql" style="overflow-wrap: break-word\; margin: 0px\; font-family: &quot\;Segoe UI Historic&quot\;\, &quot\;Segoe UI&quot\;\, Helvetica\, Arial\, sans-serif\; color: rgb(5\, 5\, 5)\; font-size: 15px\; background-color: rgb(255\, 255\, 255)\;">With the arrival of summer\, enjoy the beauty of nature and the produce that is grown in the coming months. Join Mosaic Community Land Trust supporters\, members\, friends and family at their Third Annual Summer Solstice Party.</div>\n\n<div class="o9v6fnle cxmmr5t8 oygrvhab hcukyx3x c1et5uql" style="overflow-wrap: break-word\; margin: 0.5em 0px 0px\; font-family: &quot\;Segoe UI Historic&quot\;\, &quot\;Segoe UI&quot\;\, Helvetica\, Arial\, sans-serif\; color: rgb(5\, 5\, 5)\; font-size: 15px\; background-color: rgb(255\, 255\, 255)\;">Funds raised from this event will support Mosaic&#39\;s Community Garden Program and CSA scholarship program. Both benefiting residents of the Pottstown community.</div>\n\n<div class="o9v6fnle cxmmr5t8 oygrvhab hcukyx3x c1et5uql" style="overflow-wrap: break-word\; margin: 0.5em 0px 0px\; font-family: &quot\;Segoe UI Historic&quot\;\, &quot\;Segoe UI&quot\;\, Helvetica\, Arial\, sans-serif\; color: rgb(5\, 5\, 5)\; font-size: 15px\; background-color: rgb(255\, 255\, 255)\;">Hosted at the Kneehigh Farm. Enjoy food\, beer and cocktails\, music\, raffles\, and the property\, all while supporting a great cause! Food and beverages provided by local establishments.&nbsp\;</div>\n\n<div class="o9v6fnle cxmmr5t8 oygrvhab hcukyx3x c1et5uql" style="overflow-wrap: break-word\; margin: 0.5em 0px 0px\; font-family: &quot\;Segoe UI Historic&quot\;\, &quot\;Segoe UI&quot\;\, Helvetica\, Arial\, sans-serif\; color: rgb(5\, 5\, 5)\; font-size: 15px\; background-color: rgb(255\, 255\, 255)\;">21+ preferred. This event will be capped at 75 guests. Sign up as soon as possible!&nbsp\;</div>\n
LOCATION:Kneehigh Farm 3500 Coventryville Road Pottstown\, PA 19465
UID:e.2183.856621
SEQUENCE:3
DTSTAMP:20260421T144300Z
URL:https://business.tricountyareachamber.com/events/details/summer-solstice-party-856621
END:VEVENT

END:VCALENDAR
