BEGIN:VCALENDAR
VERSION:2.0
PRODID:-//ChamberMaster//Event Calendar 2.0//EN
METHOD:PUBLISH
X-PUBLISHED-TTL:P3D
REFRESH-INTERVAL:P3D
CALSCALE:GREGORIAN
BEGIN:VEVENT
DTSTART:20170729T160000Z
DTEND:20170730T000000Z
X-MICROSOFT-CDO-ALLDAYEVENT:FALSE
SUMMARY:Summerfest 2017
DESCRIPTION:Presented by SunnyBrook & Sly Fox Brewing Co.\n\n\n\nJoin us at SunnyBrook for our First Annual SummerFest!! Held rain or shine\, SunnyBrook SummerFest is a family friendly music festival featuring refreshing Sly Fox brews\, delicious SunnyBrook food\, and fun and games the whole family can enjoy!\n\n\n\nThere will be entertainment\, kids activities\, adult activities\, food\, beer\, and more! \n\n\n\nMore information available by clicking here.
X-ALT-DESC;FMTTYPE=text/html:<div style="text-align: center\;"><em background-color:="" font-size:="" open="" style="box-sizing: border-box\; margin-bottom: 0px\; font-family: " text-align:=""><strong><span style="font-size:20px\;">Presented </span></strong></em><em background-color:="" font-size:="" open="" style="box-sizing: border-box\; margin-bottom: 0px\; font-family: " text-align:=""><strong><span style="font-size:20px\;">by SunnyBrook&nbsp\;&amp\; Sly Fox Brewing Co.</span></strong></em></div>\n\n<div><br />\n<em background-color:="" font-size:="" open="" style="box-sizing: border-box\; margin-bottom: 0px\; font-family: " text-align:="">Join us at SunnyBrook for our First Annual SummerFest!! Held rain or shine\, SunnyBrook SummerFest is a family friendly music festival featuring refreshing Sly Fox brews\, delicious SunnyBrook food\, and fun and games the whole family can enjoy!</em><br />\n<br />\n<em background-color:="" font-size:="" open="" style="box-sizing: border-box\; margin-bottom: 0px\; font-family: " text-align:="">There will be entertainment\, kids activities\, adult activities\, food\, beer\, and more!&nbsp\;<br />\n<br />\nMore information available by <a href="https://thesunnybrook.com/summer-fest-2017/#1495737702471-fd5da0cb-073d">clicking here</a>.</em></div>\n
LOCATION:SunnyBrook 50 Sunnybrook Road Pottstown\, PA 19464
UID:e.2183.848738
SEQUENCE:3
DTSTAMP:20260420T232534Z
URL:https://business.tricountyareachamber.com/events/details/summerfest-2017-848738
END:VEVENT

END:VCALENDAR
