BEGIN:VCALENDAR
VERSION:2.0
PRODID:-//ChamberMaster//Event Calendar 2.0//EN
METHOD:PUBLISH
X-PUBLISHED-TTL:P3D
REFRESH-INTERVAL:P3D
CALSCALE:GREGORIAN
BEGIN:VEVENT
DTSTART:20171112T160000Z
DTEND:20171112T190000Z
X-MICROSOFT-CDO-ALLDAYEVENT:FALSE
SUMMARY:Sunday Brunches! Join Grumpy's and Manatawny Still Works for a great time and good food
DESCRIPTION:Join us for some delicious food and great drinks at Manatawny Still Works (320 Circle of Progress - Pottstown)\n\n$15 Brunch includes a variety of breakfast delights\, carving station and dessert table! Cash Bar with the best bloody mary's around! Join us for food\, drinks and great company!
X-ALT-DESC;FMTTYPE=text/html:Join us for some delicious food and great drinks at Manatawny Still Works (320 Circle of Progress - Pottstown)<br />\n$15 Brunch includes a variety of breakfast delights\, carving station and dessert table! Cash Bar with the best bloody mary&#39\;s around! Join us for food\, drinks and great company!&nbsp\;
LOCATION:320 Circle of Progress Pottstown\, PA 19464
UID:e.2183.848889
SEQUENCE:3
DTSTAMP:20260421T061115Z
URL:https://business.tricountyareachamber.com/events/details/sunday-brunches-join-grumpy-s-and-manatawny-still-works-for-a-great-time-and-good-food-848889
END:VEVENT

END:VCALENDAR
