BEGIN:VCALENDAR
VERSION:2.0
PRODID:-//ChamberMaster//Event Calendar 2.0//EN
METHOD:PUBLISH
X-PUBLISHED-TTL:P3D
REFRESH-INTERVAL:P3D
CALSCALE:GREGORIAN
BEGIN:VEVENT
DTSTART:20160428T153000Z
DTEND:20160428T173000Z
X-MICROSOFT-CDO-ALLDAYEVENT:FALSE
SUMMARY:''Take Our Daughters & Sons to Work Day'' Luncheon
DESCRIPTION:Call 610.326.2900 for more information.\n\n\n\nThis year's luncheon's theme is "Sparking AHA! Moments" and will include presentations and engaging activities for your sons and daughters. Local Singer-Songwriter Stephanie Grace will be in attendance and will be sharing "Her AHA Moment - Super Shy to Gifted Singer and Songwriter!"\n\n\n\nRegistration Required.
X-ALT-DESC;FMTTYPE=text/html:<span style="color:#FF0000\;">Call 610.326.2900 for more information.</span><br />\n<br />\nThis year&#39\;s luncheon&#39\;s theme is &quot\;Sparking AHA! Moments&quot\; and will include presentations and engaging activities for your sons and daughters. Local Singer-Songwriter Stephanie Grace will be in attendance and will be sharing &quot\;Her AHA Moment - Super Shy to Gifted Singer and Songwriter!&quot\;<br />\n<br />\n<span style="color: rgb(255\, 0\, 0)\; font-family: arial\; font-size: 10px\; line-height: 10.6667px\; text-align: justify\; background-color: rgb(255\, 255\, 255)\;">Registration Required.</span>
LOCATION:Brookside Country Club Prospect & Adams Sts. Pottstown\, PA 19464
UID:e.2183.845545
SEQUENCE:3
DTSTAMP:20260425T155140Z
URL:https://business.tricountyareachamber.com/events/details/take-our-daughters-sons-to-work-day-luncheon-04-28-2016-845545
END:VEVENT

END:VCALENDAR
