BEGIN:VCALENDAR
VERSION:2.0
PRODID:-//ChamberMaster//Event Calendar 2.0//EN
METHOD:PUBLISH
X-PUBLISHED-TTL:P3D
REFRESH-INTERVAL:P3D
CALSCALE:GREGORIAN
BEGIN:VEVENT
DTSTART:20170725T200000Z
DTEND:20170725T220000Z
X-MICROSOFT-CDO-ALLDAYEVENT:FALSE
SUMMARY:Taste of Summer Mixer
DESCRIPTION:Join us for a mid-summer break on the Chamber's Rooftop Deck and an evening of fun and fellowship featuring a "Summer Sampler" - samplings of light refreshments donated by our members in the food and beverage industry.\n\n\n\nChamber Members providing refreshments (to date):\n\n\n	Arnold's Family Fun Center - providing our Signature Drink for the evening - The Arnie Gator\n	Beverly's Pastry Shop\n	Cuisine India\n	Gatsby's at the Sunnybrook Ballroom\n	JT's Gourmet Delivery LLC\n	Lily's Grill\n	Lindt Chocolate\n\n\nMembers only!\n\n\n\nReservations appreciated.
X-ALT-DESC;FMTTYPE=text/html:<div><span style="font-family:times new roman\,serif\;"><span style="font-size:12.0pt\;">Join us for a mid-summer break on the Chamber&rsquo\;s <strong>Rooftop Deck</strong> and an evening of fun and fellowship featuring a &quot\;Summer Sampler&quot\; - samplings of light&nbsp\;refreshments donated by our members in the food and beverage industry.</span></span><br />\n<br />\nChamber Members providing refreshments (<em>to date</em>):</div>\n\n<ul>\n	<li>Arnold&#39\;s Family Fun Center - providing our <strong>Signature Drink</strong> for the evening - <strong>The Arnie Gator</strong></li>\n	<li>Beverly&#39\;s Pastry Shop</li>\n	<li>Cuisine India</li>\n	<li>Gatsby&#39\;s at the Sunnybrook Ballroom</li>\n	<li>JT&#39\;s Gourmet Delivery LLC</li>\n	<li>Lily&#39\;s Grill</li>\n	<li>Lindt Chocolate</li>\n</ul>\n\n<p><span style="font-family:times new roman\;"><span style="font-size:12px\;"><span style="color:#FF0000\;"><strong>Members only!</strong></span><br />\n<br />\nReservations appreciated.</span></span></p>\n\n<p style="text-align: justify\;"><br />\n<br />\n&nbsp\;</p>\n\n<p style="text-align: justify\;">&nbsp\;</p>\n
LOCATION:Chamber Office 152 E. High St.\, Suite 360 Pottstown\, PA 19464
UID:e.2183.847695
SEQUENCE:3
DTSTAMP:20260421T010809Z
URL:https://business.tricountyareachamber.com/events/details/taste-of-summer-mixer-847695
END:VEVENT

END:VCALENDAR
