BEGIN:VCALENDAR
VERSION:2.0
PRODID:-//ChamberMaster//Event Calendar 2.0//EN
METHOD:PUBLISH
X-PUBLISHED-TTL:P3D
REFRESH-INTERVAL:P3D
CALSCALE:GREGORIAN
BEGIN:VEVENT
DTSTART:20170511T123000Z
DTEND:20170511T180000Z
X-MICROSOFT-CDO-ALLDAYEVENT:FALSE
SUMMARY:TCN Nonprofit Conference
DESCRIPTION:Strategies for Success\n\n\n\nThe strategies for success nonprofit sector conference is designed to provide knowledge\, resources and skills to successfully support nonprofit professionals.\n\n\n\nKeynote Speaker: Nancy Dunleavy\n\nCEO of Dunleavy & Associates\, a woman-owned business founded in 2001 to empower charitable organizations to achieve their fullest potential.\n\n\n\nWorkshops:\n\nAM Sessions -\n\n\n	Trends in Volunteer Recruitment & Retention\n	Social Media Marketing - Engagement Strategies\n	Strong Financial Foundation\, Strong Community Impact: 10 Strategies for Sustainability\n\nPM Sessions -\n\n\n	Ask an Expert: Development and Fundraising\n	Building a Positive Organizational Culture\n	Nonprofit Board Governance\n\nAdvanced Registration Required - www.tcnetwork.org
X-ALT-DESC;FMTTYPE=text/html:<div style="text-align: center\;"><span style="font-size:20px\;"><em><strong>Strategies for Success</strong></em></span></div>\n\n<div><br />\nThe strategies for success nonprofit sector conference is designed to provide knowledge\, resources and skills to successfully support nonprofit professionals.<br />\n<br />\nKeynote Speaker: Nancy Dunleavy<br />\nCEO of Dunleavy &amp\; Associates\, a woman-owned business founded in 2001 to empower charitable organizations to achieve their fullest potential.<br />\n<br />\nWorkshops:<br />\nAM Sessions -</div>\n\n<ul>\n	<li>Trends in Volunteer Recruitment &amp\; Retention</li>\n	<li>Social Media Marketing - Engagement Strategies</li>\n	<li>Strong Financial Foundation\, Strong Community Impact: 10 Strategies for Sustainability</li>\n</ul>\nPM Sessions -\n\n<ul>\n	<li>Ask an Expert: Development and Fundraising</li>\n	<li>Building a Positive Organizational Culture</li>\n	<li>Nonprofit Board Governance</li>\n</ul>\n<em><strong>Advanced Registration Required</strong></em> - <a href="http://www.tcnetwork.org">www.tcnetwork.org</a>
LOCATION:Sunnybrook Ballroom 50 Sunnybrook Rd. Pottstown\, PA 19464
UID:e.2183.847660
SEQUENCE:3
DTSTAMP:20260420T200032Z
URL:https://business.tricountyareachamber.com/events/details/tcn-nonprofit-conference-847660
END:VEVENT

END:VCALENDAR
