BEGIN:VCALENDAR
VERSION:2.0
PRODID:-//ChamberMaster//Event Calendar 2.0//EN
METHOD:PUBLISH
X-PUBLISHED-TTL:P3D
REFRESH-INTERVAL:P3D
CALSCALE:GREGORIAN
BEGIN:VEVENT
DTSTART:20171219T130000Z
DTEND:20171219T140000Z
X-MICROSOFT-CDO-ALLDAYEVENT:FALSE
SUMMARY:TCN's Monthly Meeting
DESCRIPTION:Join us for TCN's Monthly Meeting- December 19th at Sunnybrook. You DO NOT need to be a TCN member to attend. It is a great way to network with your community and hear about the work happening in the nonprofit sector. This is our holiday breakfast\, so there will be prizes & fun. Please RSVP on our website OR by emailing info@tcnetwork.org. Meeting starts at 8\, but we welcome attendees from 8-9 am if you need to get the kids off to school. Bring a friend!!!
X-ALT-DESC;FMTTYPE=text/html:<span style="color: rgb(102\, 102\, 102)\; font-family: Helvetica\, Arial\, sans-serif\; font-size: 12px\; background-color: rgb(255\, 255\, 255)\;">Join us for TCN&#39\;s Monthly Meeting- December 19th at Sunnybrook. You DO NOT need to be a TCN member to attend. It is a great way to network with your communit</span><span class="text_exposed_show" style="display: inline\; font-family: Helvetica\, Arial\, sans-serif\; color: rgb(102\, 102\, 102)\; font-size: 12px\; background-color: rgb(255\, 255\, 255)\;">y and hear about the work happening in the nonprofit sector. This is our holiday breakfast\, so there will be prizes &amp\; fun. Please RSVP on our website OR by emailing info@tcnetwork.org. Meeting starts at 8\, but we welcome attendees from 8-9 am if you need to get the kids off to school. Bring a friend!!!</span>
LOCATION:SunnyBrook 50 Sunnybrook Road Pottstown\, PA 19464
UID:e.2183.849123
SEQUENCE:3
DTSTAMP:20260421T080305Z
URL:https://business.tricountyareachamber.com/events/details/tcn-s-monthly-meeting-849123
END:VEVENT

END:VCALENDAR
