BEGIN:VCALENDAR
VERSION:2.0
PRODID:-//ChamberMaster//Event Calendar 2.0//EN
METHOD:PUBLISH
X-PUBLISHED-TTL:P3D
REFRESH-INTERVAL:P3D
CALSCALE:GREGORIAN
BEGIN:VEVENT
DTSTART:20171116T130000Z
DTEND:20171116T230000Z
X-MICROSOFT-CDO-ALLDAYEVENT:FALSE
SUMMARY:TECH360
DESCRIPTION:TECH360 is a full day tech experience featuring tech education\, leadership\, innovation\, and networking. Join the area's top companies\, IT professionals\, project leaders and managers to discuss how to best leverage the latest technology in today's business climate. Speakers from the FBI\, Wawa\, Cerner\, Navigate\, Seventysix Capital and more will cover this year's topics including cyber security\, big data\, blockchain\, design thinking\, Amazon Web Service\, and IT leadership.\n \n\n\n	\n		\n			 MEET \n\n			\n				Thought leaders \n				Tech entrepreneurs \n				Top tech employers \n				Tech service providers/ investors \n				Industry innovators \n			\n			\n			 LEARN \n			\n				Sector landscape and trends \n				Cyber security defense updates \n				 Tech startup news and products \n				Coding/application updates \n				Tech growth and innovation \n				Lessons promoting career and job development \n			\n			\n			ENGAGE \n			\n				Keynote speakers \n				Innovative tech startup pitches \n				Panel discussions \n				Exhibitor demos \n				Networking sessions\n			\n			\n		\n	\n\n\n\nRegister at https://tech360-nov162017.eventbrite.com.
X-ALT-DESC;FMTTYPE=text/html:TECH360 is a full day tech experience featuring tech education\, leadership\, innovation\, and networking. Join the area&rsquo\;s top companies\, IT professionals\, project leaders and managers to discuss how to best leverage the latest technology in today&rsquo\;s business climate. Speakers from the FBI\, Wawa\, Cerner\, Navigate\, Seventysix Capital and more will cover this year&rsquo\;s topics including cyber security\, big data\, blockchain\, design thinking\, Amazon Web Service\, and IT leadership.\n<div style="text-align: center\;">&nbsp\;</div>\n\n<table border="1" cellpadding="1" cellspacing="1" style="width:500px\;">\n	<tbody>\n		<tr>\n			<td style="text-align: center\;"><strong>&nbsp\;<span style="font-size:14.0pt\;">MEET </span></strong>\n\n			<ul>\n				<li style="text-align: left\;"><span style="font-size:10.0pt\;">Thought leaders </span></li>\n				<li style="text-align: left\;"><span style="font-size:10.0pt\;">Tech entrepreneurs </span></li>\n				<li style="text-align: left\;"><span style="font-size:10.0pt\;">Top tech employers </span></li>\n				<li style="text-align: left\;"><span style="font-size:10.0pt\;">Tech service providers/ investors </span></li>\n				<li style="text-align: left\;"><span style="font-size:10.0pt\;">Industry innovators&nbsp\;</span></li>\n			</ul>\n			</td>\n			<td style="text-align: center\;">&nbsp\;<strong><span style="font-size:14.0pt\;">LEARN </span></strong>\n			<ul>\n				<li style="text-align: left\;"><span style="font-size:10.0pt\;">Sector landscape and trends </span></li>\n				<li style="text-align: left\;"><span style="font-size:10.0pt\;">Cyber security defense updates </span></li>\n				<li style="text-align: left\;">&nbsp\;<span style="font-size:10.0pt\;">Tech startup news and products </span></li>\n				<li style="text-align: left\;"><span style="font-size:10.0pt\;">Coding/application updates </span></li>\n				<li style="text-align: left\;"><span style="font-size:10.0pt\;">Tech growth and innovation </span></li>\n				<li style="text-align: left\;"><span style="font-size:10.0pt\;">Lessons promoting career and job development&nbsp\;</span></li>\n			</ul>\n			</td>\n			<td style="text-align: center\;"><strong><span style="font-size:14.0pt\;">ENGAGE </span></strong>\n			<ul>\n				<li style="text-align: left\;"><span style="font-size:10.0pt\;">Keynote speakers </span></li>\n				<li style="text-align: left\;"><span style="font-size:10.0pt\;">Innovative tech startup pitches </span></li>\n				<li style="text-align: left\;"><span style="font-size:10.0pt\;">Panel discussions </span></li>\n				<li style="text-align: left\;"><span style="font-size:10.0pt\;">Exhibitor demos </span></li>\n				<li style="text-align: left\;"><span style="font-size:10.0pt\;">Networking sessions</span></li>\n			</ul>\n			</td>\n		</tr>\n	</tbody>\n</table>\n<br />\nRegister at <a href="https://tech360-nov162017.eventbrite.com">https://tech360-nov162017.eventbrite.com</a>.
LOCATION:Penn State Great Valley 30 E. Swedesford Rd. Malvern\, PA 19355
UID:e.2183.848886
SEQUENCE:3
DTSTAMP:20260421T060506Z
URL:https://business.tricountyareachamber.com/events/details/tech360-848886
END:VEVENT

END:VCALENDAR
