BEGIN:VCALENDAR
VERSION:2.0
PRODID:-//ChamberMaster//Event Calendar 2.0//EN
METHOD:PUBLISH
X-PUBLISHED-TTL:P3D
REFRESH-INTERVAL:P3D
CALSCALE:GREGORIAN
BEGIN:VEVENT
DTSTART:20171124T020000Z
DTEND:20171124T040000Z
X-MICROSOFT-CDO-ALLDAYEVENT:FALSE
SUMMARY:Thanksgiving Day Turkey Trot!
DESCRIPTION:Thanksgiving Day Turkey Trot! \n\n5K Run & 1 Mile Walk\n\nPresented by the Wellness Council of Boyertown\n\nin Memory of Cliff Reigner\n\nRain or Shine\n\nBoyertown Park Start at 9am Registration open at 8:15am\n\n \n\nAwards\n\nAwards will be presented to the overall male and female winners and the top male and female winners in the following age groups:\n\n10 & under     11   15 yrs      16   19 yrs     20   29 yrs\n\n30   39 yrs     40   49 yrs      50   59 yrs     60+ yrs\n\n \n\nEach registered participant will receive a long sleeve race day t-shirt and gift bag. Register before November 6 to guarantee shirt size.
X-ALT-DESC;FMTTYPE=text/html:<div style="text-align: center\;"><span style="font-size:12px\;"><font color="#333333" face="Arial\, Helvetica\, sans-serif"><b>Thanksgiving Day Turkey Trot!&nbsp\;</b></font></span></div>\n\n<div style="text-align: center\;"><span style="font-size:12px\;"><font color="#333333" face="Arial\, Helvetica\, sans-serif"><b>5K Run &amp\; 1 Mile Walk</b></font></span></div>\n\n<div style="text-align: center\;"><span style="font-size:12px\;"><font color="#333333" face="Arial\, Helvetica\, sans-serif"><b>Presented by the Wellness Council of Boyertown</b></font></span></div>\n\n<div style="text-align: center\;"><em><span style="font-size:12px\;"><font color="#333333" face="Arial\, Helvetica\, sans-serif"><b>in Memory of Cliff Reigner</b></font></span></em></div>\n\n<div style="text-align: center\;"><span style="font-size:12px\;"><font color="#333333" face="Arial\, Helvetica\, sans-serif"><b>Rain or Shine</b></font></span></div>\n\n<div style="text-align: center\;"><span style="font-size:12px\;"><font color="#333333" face="Arial\, Helvetica\, sans-serif"><b>Boyertown Park Start at 9am Registration open at 8:15am</b></font></span></div>\n\n<div style="text-align: center\;">&nbsp\;</div>\n\n<div style="text-align: center\;"><span style="font-size:12px\;"><font color="#333333" face="Arial\, Helvetica\, sans-serif"><b>Awards</b></font></span></div>\n\n<div style="text-align: center\;"><span style="font-size:12px\;"><font color="#333333" face="Arial\, Helvetica\, sans-serif"><b>Awards will be presented to the overall male and female winners and the top male and female winners in the following age groups:</b></font></span></div>\n\n<div style="text-align: center\;"><span style="font-size:12px\;"><font color="#333333" face="Arial\, Helvetica\, sans-serif"><b>10 &amp\; under &nbsp\; &nbsp\; 11 &ndash\; 15 yrs &nbsp\; &nbsp\; &nbsp\;16 &ndash\; 19 yrs &nbsp\; &nbsp\; 20 &ndash\; 29 yrs</b></font></span></div>\n\n<div style="text-align: center\;"><font color="#333333" face="Arial\, Helvetica\, sans-serif" size="4"><b><span style="font-size:12px\;">30 &ndash\; 39 yrs &nbsp\; &nbsp\; 40 &ndash\; 49 yrs &nbsp\; &nbsp\; &nbsp\;50 &ndash\; 59 yrs &nbsp\; &nbsp\; 60+ yrs</span></b></font><br />\n&nbsp\;</div>\n\n<div><span style="font-size:11px\;"><font color="#333333" face="Arial\, Helvetica\, sans-serif">Each registered participant will receive a long sleeve race day t-shirt and gift bag. Register before November 6 to guarantee shirt size.</font></span></div>\n
LOCATION:Boyertown Park 417 S. Madison St. Boyertown\, PA 19512
UID:e.2183.848740
SEQUENCE:3
DTSTAMP:20260421T061104Z
URL:https://business.tricountyareachamber.com/events/details/thanksgiving-day-turkey-trot-848740
END:VEVENT

END:VCALENDAR
