BEGIN:VCALENDAR
VERSION:2.0
PRODID:-//ChamberMaster//Event Calendar 2.0//EN
METHOD:PUBLISH
X-PUBLISHED-TTL:P3D
REFRESH-INTERVAL:P3D
CALSCALE:GREGORIAN
BEGIN:VEVENT
DTSTART:20180323T233000Z
DTEND:20180324T030000Z
X-MICROSOFT-CDO-ALLDAYEVENT:FALSE
SUMMARY:The Beach Boys
DESCRIPTION:One of the greatest pop music acts in history is coming to Reading\, PA! It is without a doubt that The Beach Boys significantly changed the direction of the musical landscape\, and they continue to perform and create with the same style that influenced their explosive debut over 50 years ago. The Beach Boys are famously known for passing many musical milestones\, whether it be creating the Pet Sounds master-piece in 1966\, recording the Golden Globe nominated "Kokomo" in 1988\, being inducted into the Rock & Roll Hall of Fame\, watching worldwide album sales blow past 100 million\, or winning the NARAS Lifetime Achievement Award in 2001 which has been given to greats including The Who\, Bob Marley\, Tony Bennett\, Sammy Davis Jr. and Les Paul.
X-ALT-DESC;FMTTYPE=text/html:One of the greatest pop music acts in history is coming to Reading\, PA! It is without a doubt that The Beach Boys significantly changed the direction of the musical landscape\, and they continue to perform and create with the same style that influenced their explosive debut over 50 years ago. The Beach Boys are famously known for passing many musical milestones\, whether it be creating the Pet Sounds master-piece in 1966\, recording the Golden Globe nominated &ldquo\;Kokomo&rdquo\; in 1988\, being inducted into the Rock &amp\; Roll Hall of Fame\, watching worldwide album sales blow past 100 million\, or winning the NARAS Lifetime Achievement Award in 2001 which has been given to greats including The Who\, Bob Marley\, Tony Bennett\, Sammy Davis Jr. and Les Paul.
LOCATION:Santander Performing Arts Center
UID:e.2183.850239
SEQUENCE:3
DTSTAMP:20260421T123634Z
URL:https://business.tricountyareachamber.com/events/details/the-beach-boys-850239
END:VEVENT

END:VCALENDAR
