BEGIN:VCALENDAR
VERSION:2.0
PRODID:-//ChamberMaster//Event Calendar 2.0//EN
METHOD:PUBLISH
X-PUBLISHED-TTL:P3D
REFRESH-INTERVAL:P3D
CALSCALE:GREGORIAN
BEGIN:VEVENT
DTSTART:20171210T000000Z
DTEND:20171210T040000Z
X-MICROSOFT-CDO-ALLDAYEVENT:FALSE
SUMMARY:The Chatter Band
DESCRIPTION:This is a FUNdraiser for the Hometown Holidays! Please join us at the Elks Club for great dancing and good friends! $25 includes band\, draft beer\, delicious food from Grumpy's Handcarved Sandwiches\, soda and water. Cash Bar available.
X-ALT-DESC;FMTTYPE=text/html:This is a FUNdraiser for the Hometown Holidays! Please join us at the Elks Club for great dancing and good friends! $25 includes band\, draft beer\, delicious food from Grumpy&#39\;s Handcarved Sandwiches\, soda and water. Cash Bar available.&nbsp\;
LOCATION:61 E High St / Elks Club Pottstown\, PA 19464
UID:e.2183.848894
SEQUENCE:3
DTSTAMP:20260421T080214Z
URL:https://business.tricountyareachamber.com/events/details/the-chatter-band-848894
END:VEVENT

END:VCALENDAR
