BEGIN:VCALENDAR
VERSION:2.0
PRODID:-//ChamberMaster//Event Calendar 2.0//EN
METHOD:PUBLISH
X-PUBLISHED-TTL:P3D
REFRESH-INTERVAL:P3D
CALSCALE:GREGORIAN
BEGIN:VEVENT
DTSTART:20200308T010000Z
DTEND:20200308T030000Z
X-MICROSOFT-CDO-ALLDAYEVENT:FALSE
SUMMARY:The Diary of Anne Frank
DESCRIPTION:Based on events in the life of Anne Frank\, and informed by her own diary. Important\, timely\, and moving   this will be an experience that won't soon be forgotten. Amsterdam\, 1942. The Frank family disappears into hiding in a secret attic apartment. From there\, Anne examines and records her experiences through the candid\, romantic\, innocent eyes of a young girl.
X-ALT-DESC;FMTTYPE=text/html:Based on events in the life of Anne Frank\, and informed by her own diary. Important\, timely\, and moving &ndash\; this will be an experience that won&rsquo\;t soon be forgotten. Amsterdam\, 1942. The Frank family disappears into hiding in a secret attic apartment. From there\, Anne examines and records her experiences through the candid\, romantic\, innocent eyes of a young girl.
LOCATION:Steel River Playhouse 245 E. High St. Pottstown
UID:e.2183.854759
SEQUENCE:3
DTSTAMP:20260424T010607Z
URL:https://business.tricountyareachamber.com/events/details/the-diary-of-anne-frank-03-07-2020-854759
END:VEVENT

END:VCALENDAR
