BEGIN:VCALENDAR
VERSION:2.0
PRODID:-//ChamberMaster//Event Calendar 2.0//EN
METHOD:PUBLISH
X-PUBLISHED-TTL:P3D
REFRESH-INTERVAL:P3D
CALSCALE:GREGORIAN
BEGIN:VEVENT
DTSTART:20210112T223000Z
DTEND:20210112T233000Z
X-MICROSOFT-CDO-ALLDAYEVENT:FALSE
SUMMARY:The Importance of Vaccines: Building Trust within Communities of Color
DESCRIPTION:Join us for a Virtual Town Hall The Importance of Vaccines: Building Trust within Communities of Color Hear from local healthcare providers and community leaders along with special guests from the Montgomery County Office of Public Health and Chester County Health Department. Panelists Thank you to our panelists for participating in this conversation. Valerie A. Arkoosh\, MD\, MPH: Chair\, Montgomery County Board of Commissioners Jonathan Corson: President\, Pottstown NAACP #2288 Nelly Jimenez-Arevalo: Executive Director and CEO\, ACLAMO Family Centers Richard Lorraine\, MD\, FACP: Medical Director\, Montgomery County Office of Public Health Irene Shepherd\, CRNP: Chief Medical Officer\, Community Health & Dental Care Meghan Smith\, MPH: Planning and Promotion Coordinator\, Chester County Health Department Stacey Woodland: CEO\, Tri County Area YWCA John Harris (Moderator): Director\, Veralon
X-ALT-DESC;FMTTYPE=text/html:Join us for a Virtual Town Hall The Importance of Vaccines: Building Trust within Communities of Color Hear from local healthcare providers and community leaders along with special guests from the Montgomery County Office of Public Health and Chester County Health Department. Panelists Thank you to our panelists for participating in this conversation. Valerie A. Arkoosh\, MD\, MPH: Chair\, Montgomery County Board of Commissioners Jonathan Corson: President\, Pottstown NAACP #2288 Nelly Jimenez-Arevalo: Executive Director and CEO\, ACLAMO Family Centers Richard Lorraine\, MD\, FACP: Medical Director\, Montgomery County Office of Public Health Irene Shepherd\, CRNP: Chief Medical Officer\, Community Health &amp\; Dental Care Meghan Smith\, MPH: Planning and Promotion Coordinator\, Chester County Health Department Stacey Woodland: CEO\, Tri County Area YWCA John Harris (Moderator): Director\, Veralon
LOCATION:Virtual
UID:e.2183.856433
SEQUENCE:3
DTSTAMP:20260425T155130Z
URL:https://business.tricountyareachamber.com/events/details/the-importance-of-vaccines-building-trust-within-communities-of-color-856433
END:VEVENT

END:VCALENDAR
