BEGIN:VCALENDAR
VERSION:2.0
PRODID:-//ChamberMaster//Event Calendar 2.0//EN
METHOD:PUBLISH
X-PUBLISHED-TTL:P3D
REFRESH-INTERVAL:P3D
CALSCALE:GREGORIAN
BEGIN:VEVENT
DTSTART:20161104T233000Z
DTEND:20161105T020000Z
X-MICROSOFT-CDO-ALLDAYEVENT:FALSE
SUMMARY:The Legend of Zelda: Symphony of the Goddess- Master Quest
DESCRIPTION:
X-ALT-DESC;FMTTYPE=text/html:
LOCATION:Reading Eagle Theater at the Santander Arena in Reading\, Pa
UID:e.2183.846072
SEQUENCE:3
DTSTAMP:20260422T113655Z
URL:https://business.tricountyareachamber.com/events/details/the-legend-of-zelda-symphony-of-the-goddess-master-quest-11-04-2016-846072
END:VEVENT

END:VCALENDAR
