BEGIN:VCALENDAR
VERSION:2.0
PRODID:-//ChamberMaster//Event Calendar 2.0//EN
METHOD:PUBLISH
X-PUBLISHED-TTL:P3D
REFRESH-INTERVAL:P3D
CALSCALE:GREGORIAN
BEGIN:VEVENT
DTSTART:20220123T140000Z
DTEND:20220123T160000Z
X-MICROSOFT-CDO-ALLDAYEVENT:FALSE
SUMMARY:The Medicine Shoppe Pharmacy COVID-19 Booster Dose Clinic for Residents of the Boyertown Area on Sunday\, January 23\, 2022
DESCRIPTION:This form is for individuals ages 18 and up for the PFIZER and MODERNA COVID-19 Booster Dose ONLY. Please review the information provided below for Booster dose eligibility. You will be required to present your CDC Vaccination Card at the clinic before receiving your Booster for verification and completion purposes.\n	\n	\n	\n	\n	\n	\n	The Medicine Shoppe Pharmacy COVID-19 Booster Dose Clinic for Residents of the Boyertown Area on Sunday\, January 23\, 2022. This clinic is scheduled to take place at the Boyertown Area Senior High School with appointment times between 9am to 11 am.\n\n	Please enter the school through the EAST Entrance and the clinic will be held in the 700 Hallway. This entrance is the one closest to the Library. This form is HIPAA compliant and protects the integrity of your Protected Health Information. Please read this form in its entirety.\n	\n	\n	\n\n\n\n\n\nFORM: The Medicine Shoppe PFIZER or MODERNA COVID-19 Booster Clinic 1/23/21 (jotform.com)
X-ALT-DESC;FMTTYPE=text/html:<ul class="form-section page-section" style="box-sizing: border-box\; margin: 0px\; flex-wrap: wrap\; display: flex\; align-items: flex-start\; padding-right: 38px\; padding-left: 38px\; list-style: none\; color: rgb(44\, 51\, 69)\; font-family: Inter\, sans-serif\; font-size: 16px\;">\n	<li class="form-input-wide" data-type="control_head" id="cid_1" style="box-sizing: border-box\; width: 676px\; list-style: none\;">\n	<div class="form-header-group  header-default" style="box-sizing: border-box\; border-bottom: 1px solid rgb(237\, 237\, 241)\; padding: 14px\; margin-top: 1.25em\; margin-bottom: 0.75em\; border-top-color: rgb(237\, 237\, 241)\; border-right-color: rgb(237\, 237\, 241)\; border-left-color: rgb(237\, 237\, 241)\;">\n	<div class="header-text httac htvam" style="box-sizing: border-box\; flex-grow: 1\; text-align: center\; margin-top: auto\; margin-bottom: auto\;">\n	<div class="form-subHeader" id="subHeader_1" style="box-sizing: border-box\; line-height: 1.6\; word-break: break-word\; font-size: 0.875em\; margin-bottom: 4px\; text-align: left\;">This form is for individuals ages 18 and up for the PFIZER and MODERNA COVID-19 Booster Dose ONLY. Please review the information provided below for Booster dose eligibility. You will be required to present your CDC Vaccination Card at the clinic before receiving your Booster for verification and completion purposes.</div>\n	</div>\n	</div>\n	</li>\n	<li class="form-input-wide" data-type="control_head" id="cid_109" style="box-sizing: border-box\; width: 676px\; list-style: none\;">\n	<div class="form-header-group  header-default" style="box-sizing: border-box\; border-bottom: 1px solid rgb(237\, 237\, 241)\; padding: 14px\; margin-top: 1.25em\; margin-bottom: 0.75em\; border-top-color: rgb(237\, 237\, 241)\; border-right-color: rgb(237\, 237\, 241)\; border-left-color: rgb(237\, 237\, 241)\;">\n	<div class="header-text httac htvam" style="box-sizing: border-box\; flex-grow: 1\; text-align: center\; margin-top: auto\; margin-bottom: auto\;">\n	<h2 class="form-header" data-component="header" id="header_109" style="box-sizing: border-box\; margin: 0px 0px 4px\; font-weight: 600\; line-height: 1.45\; word-break: break-word\; font-size: 1.25em\; text-align: left\;">The Medicine Shoppe Pharmacy COVID-19 Booster Dose Clinic for Residents of the Boyertown Area on Sunday\, January 23\, 2022. This clinic is scheduled to take place at the Boyertown Area Senior High School with appointment times between 9am to 11 am.</h2>\n\n	<div class="form-subHeader" id="subHeader_109" style="box-sizing: border-box\; line-height: 1.6\; word-break: break-word\; font-size: 0.875em\; margin-bottom: 4px\; text-align: left\;">Please enter the school through the EAST Entrance and the clinic will be held in the 700 Hallway. This entrance is the one closest to the Library. This form is HIPAA compliant and protects the integrity of your Protected Health Information. Please read this form in its entirety.</div>\n	</div>\n	</div>\n	</li>\n</ul>\n<br />\n<br />\nFORM:&nbsp\;<a href="https://hipaa.jotform.com/213505766691159">The Medicine Shoppe PFIZER or MODERNA COVID-19 Booster Clinic 1/23/21 (jotform.com)</a>
LOCATION:Boyertown Area Senior High School
UID:e.2183.856933
SEQUENCE:3
DTSTAMP:20260424T101123Z
URL:https://business.tricountyareachamber.com/events/details/the-medicine-shoppe-pharmacy-covid-19-booster-dose-clinic-for-residents-of-the-boyertown-area-on-sunday-january-23-2022-856933
END:VEVENT

END:VCALENDAR
