BEGIN:VCALENDAR
VERSION:2.0
PRODID:-//ChamberMaster//Event Calendar 2.0//EN
METHOD:PUBLISH
X-PUBLISHED-TTL:P3D
REFRESH-INTERVAL:P3D
CALSCALE:GREGORIAN
BEGIN:VEVENT
DTSTART:20171008T000000Z
DTEND:20171008T020000Z
X-MICROSOFT-CDO-ALLDAYEVENT:FALSE
SUMMARY:"The Nerd"
DESCRIPTION:A side-splitting uproarious comedy written by Larry Shue. The action centers on the hilarious dilemma of a young architect\, Willum\, who is visited by a man he's never met but who saved his life in Vietnam the visitor turning out to be an incredibly inept\, hopelessly silly "nerd" who outstays his welcome with a vengeance. The normally placid Willum finds himself contemplating violence a dire development which\, happily\, is staved off by the surprising "twist" ending of the play. This is a story that is ultimately about forgiveness and understanding that will have you rolling in the aisles. " the audience almost never stops laughing-handkerchiefs wiping away tears of merriment " -Variety
X-ALT-DESC;FMTTYPE=text/html:<span style="font-family: Arial\, sans-serif\; background-color: rgb(255\, 255\, 255)\;">A side-splitting uproarious comedy written by Larry Shue.&nbsp\;</span><span style="font-family: Arial\, sans-serif\; background: white\;">The action centers on the hilarious dilemma of a young architect\, Willum\, who is visited by a man he&#39\;s never met but who saved his life in Vietnam&mdash\;the visitor turning out to be an incredibly inept\, hopelessly silly &quot\;nerd&quot\; who outstays his welcome with a vengeance. The normally placid Willum finds himself contemplating violence&mdash\;a dire development which\, happily\, is staved off by the surprising &quot\;twist&quot\; ending of the play. This is a story that is ultimately about forgiveness and understanding that will have you rolling in the aisles. &ldquo\;&hellip\;the audience almost never stops laughing-handkerchiefs wiping away tears of merriment&hellip\;&rdquo\; -Variety</span>
LOCATION:Steel River Playhouse 245 E. High Street Pottstown\, PA 19464
UID:e.2183.848801
SEQUENCE:3
DTSTAMP:20260421T042330Z
URL:https://business.tricountyareachamber.com/events/details/the-nerd-848801
END:VEVENT

END:VCALENDAR
