BEGIN:VCALENDAR
VERSION:2.0
PRODID:-//ChamberMaster//Event Calendar 2.0//EN
METHOD:PUBLISH
X-PUBLISHED-TTL:P3D
REFRESH-INTERVAL:P3D
CALSCALE:GREGORIAN
BEGIN:VEVENT
DTSTART:20171203T000000Z
DTEND:20171203T030000Z
X-MICROSOFT-CDO-ALLDAYEVENT:FALSE
SUMMARY:"The Nutcracker"
DESCRIPTION:Pottstown Dance Theatre will be performing a full version of the family classic "The Nutcracker."\n\n\n\nMs. Wurtz will be the main choreographer\, with assistance from Ms. Diane Alex-Brody\, who will also perform as the Snow Wueen. Lizzie Rasmussen and Ashley Reicher will be performing the coveted "Clara" roles as well as "The Sugar Plum Fairy."\n\n\n\nYou will absolultely fall in love with this classic\, family favorite!
X-ALT-DESC;FMTTYPE=text/html:Pottstown Dance Theatre will be performing a full version of the family classic &quot\;The Nutcracker.&quot\;<br />\n<br />\nMs. Wurtz will be the main choreographer\, with assistance from Ms. Diane Alex-Brody\, who will also perform as the Snow Wueen. Lizzie Rasmussen and Ashley Reicher will be performing the coveted &quot\;Clara&quot\; roles as well as &quot\;The Sugar Plum Fairy.&quot\;<br />\n<br />\nYou will absolultely fall in love with this classic\, family favorite!
LOCATION:The Hill School Center for the Arts Beech and Sheridan Streets Pottstown\, PA 19464
UID:e.2183.848884
SEQUENCE:3
DTSTAMP:20260421T075832Z
URL:https://business.tricountyareachamber.com/events/details/the-nutcracker-848884
END:VEVENT

END:VCALENDAR
