BEGIN:VCALENDAR
VERSION:2.0
PRODID:-//ChamberMaster//Event Calendar 2.0//EN
METHOD:PUBLISH
X-PUBLISHED-TTL:P3D
REFRESH-INTERVAL:P3D
CALSCALE:GREGORIAN
BEGIN:VEVENT
DTSTART:20260411T150000Z
DTEND:20260411T200000Z
X-MICROSOFT-CDO-ALLDAYEVENT:FALSE
SUMMARY:The Pout-Pout Fish
DESCRIPTION:Turn the poutiest of frowns upside down in this musical featuring whimsical puppets and live performers in a sweeping oceanic adventure. When Mr. Fish sets out on a quest to find Miss Clam's missing pearl\, he discovers there is more to him than his permanently plastered pout. Book by Christopher Anselmo\, Jared Corak\, Matt Acheson\, and Fergus J Walsh Music & Lyrics by Christopher Anselmo\, Jared Corak Original Direction and Staging by Matt Acheson & Fergus Walsh Production Design by AchesonWalsh Studios Music Direction and Arrangements by Jonathan Bauerfeld Based on the series of books by Deborah Diesen\, author\, and Dan Hanna\, illustrator
X-ALT-DESC;FMTTYPE=text/html:Turn the poutiest of frowns upside down in this musical featuring whimsical puppets and live performers in a sweeping oceanic adventure. When Mr. Fish sets out on a quest to find Miss Clam&rsquo\;s missing pearl\, he discovers there is more to him than his permanently plastered pout. Book by Christopher Anselmo\, Jared Corak\, Matt Acheson\, and Fergus J Walsh Music &amp\; Lyrics by Christopher Anselmo\, Jared Corak Original Direction and Staging by Matt Acheson &amp\; Fergus Walsh Production Design by AchesonWalsh Studios Music Direction and Arrangements by Jonathan Bauerfeld Based on the series of books by Deborah Diesen\, author\, and Dan Hanna\, illustrator
LOCATION:Montco Cultural Center Theater\, Science Center Building\, 1313 Morris Rd. Blue Bell
UID:e.2183.864595
SEQUENCE:3
DTSTAMP:20260422T153521Z
URL:https://business.tricountyareachamber.com/events/details/the-pout-pout-fish-864595
END:VEVENT

END:VCALENDAR
