BEGIN:VCALENDAR
VERSION:2.0
PRODID:-//ChamberMaster//Event Calendar 2.0//EN
METHOD:PUBLISH
X-PUBLISHED-TTL:P3D
REFRESH-INTERVAL:P3D
CALSCALE:GREGORIAN
BEGIN:VEVENT
DTSTART:20161111T180000Z
DTEND:20161111T233000Z
X-MICROSOFT-CDO-ALLDAYEVENT:FALSE
SUMMARY:The Santa Experience
DESCRIPTION:Keefer Photography and Santa Claus would like to invite you to come visit us for our unique and magical Santa Experience! This is not a sit-on-the-lap photo session. It is a totally immersive\, scripted\, one-on-one session with Santa Claus! All documented with a photo-journalistic style. No posing! No waiting in lines! This will only be available for three days this season reserve your spot before we sell out!\n\nGet more info and book your session HERE.\n\nSantaExperiencePA.com
X-ALT-DESC;FMTTYPE=text/html:<span style="font-size:14px"><span style="color:rgb(83\, 83\, 83)\; font-family:gentium basic\,serif">Keefer Photography and Santa Claus would like to invite you to come visit us for our unique and magical Santa Experience! This is not a sit-on-the-lap photo session. It is a totally immersive\, scripted\, one-on-one session with Santa Claus! All documented with a photo-journalistic style. No posing! No waiting in lines! This will only be available for three days this season&hellip\;reserve your spot before we sell out!<br />\nGet more info and book your session <a href="http://santaexperiencepa.com">HERE</a>.<br />\nSantaExperiencePA.com</span></span>
LOCATION:Courtyard by Marriott 600 Campus Drive Collegeville\, PA 19426
UID:e.2183.847293
SEQUENCE:3
DTSTAMP:20260422T112628Z
URL:https://business.tricountyareachamber.com/events/details/the-santa-experience-847293
END:VEVENT

END:VCALENDAR
