BEGIN:VCALENDAR
VERSION:2.0
PRODID:-//ChamberMaster//Event Calendar 2.0//EN
METHOD:PUBLISH
X-PUBLISHED-TTL:P3D
REFRESH-INTERVAL:P3D
CALSCALE:GREGORIAN
BEGIN:VEVENT
DTSTART:20170617T160000Z
DTEND:20170617T200000Z
X-MICROSOFT-CDO-ALLDAYEVENT:FALSE
SUMMARY:The Truck Stops Here
DESCRIPTION:The Boyertown Museum of Historic Vehicles celebrates its 3rd Annual Food Truck Fair. Check our FB for a list of trucks. Mister Softee\, Sly Fox and Lobster Rolls\, just a few of the selections that will be here. Learn about food trucks that were manufactured here in Boyertown.
X-ALT-DESC;FMTTYPE=text/html:The Boyertown Museum of Historic Vehicles celebrates its 3rd Annual Food Truck Fair. Check our FB for a list of trucks. Mister Softee\, Sly Fox and Lobster Rolls\, just a few of the selections that will be here. Learn about food trucks that were manufactured here in Boyertown.
LOCATION:85 S. Walnut Street Boyertown\, PA 19512
UID:e.2183.847629
SEQUENCE:3
DTSTAMP:20260420T213438Z
URL:https://business.tricountyareachamber.com/events/details/the-truck-stops-here-847629
END:VEVENT

END:VCALENDAR
