BEGIN:VCALENDAR
VERSION:2.0
PRODID:-//ChamberMaster//Event Calendar 2.0//EN
METHOD:PUBLISH
X-PUBLISHED-TTL:P3D
REFRESH-INTERVAL:P3D
CALSCALE:GREGORIAN
BEGIN:VEVENT
DTSTART:20171119T190000Z
DTEND:20171119T210000Z
X-MICROSOFT-CDO-ALLDAYEVENT:FALSE
SUMMARY:Theatre Organ Concert with Pierre Fracalanza
DESCRIPTION:Delaware Valley is happy to present an all musical program of popular and show tunes by well-known musician Pierre Fracalanza. Pierre began playing piano and organ at the age of three. By age 8 he was playing in churches and at 16 was a church organist and musical director. He attended the renowned Eastman School of Music in Rochester\, NY. He spent the first half of his career as a professional entertainer in the greater Detroit area's most exclusive clubs and restaurants. It was during this time that he tried his hand at the theatre organ as a staff organist at Pizza and Pipes in Pontiac\, Michigan. Pierre's shows are not only theatre organ concerts in the traditional fashion\, but are often multimedia enhanced with video and audio. Please plan to join us for an afternoon of theatre organ music with a twist. You will not go away disappointed!\n\nThis program benefits the Theatre Organ Society of the Delaware Valley (TOSDV) Theatre Pipe Organ Restoration Fund. For additional information visit TOSDV.org\; email tosdvinfo@verizon.net\; or call 215-780-0831.\n\nThere is plenty of parking near the theatre\, and it's free on Sundays!
X-ALT-DESC;FMTTYPE=text/html:<p class="p1" style="box-sizing: border-box\; margin: 0px 0px 10px\; color: rgb(51\, 51\, 51)\; font-family: &quot\;Helvetica Neue&quot\;\, Helvetica\, Arial\, sans-serif\; font-size: 14px\; background-color: rgb(255\, 255\, 255)\;"><span class="s1" style="box-sizing: border-box\;">Delaware Valley is happy to present an all musical program of popular and show tunes by well-known musician Pierre Fracalanza. Pierre began playing piano and organ at the age of three. By age 8 he was playing in churches and at 16 was a church organist and musical director. He attended the renowned Eastman School of Music in Rochester\, NY. He spent the first half of his career as a professional entertainer in the greater Detroit area&rsquo\;s most exclusive clubs and restaurants. It was during this time that he tried his hand at the theatre organ as a staff organist at Pizza and Pipes in Pontiac\, Michigan. Pierre&rsquo\;s shows are not only theatre organ concerts in the traditional fashion\, but are often multimedia enhanced with video and audio. Please plan to join us for an afternoon of theatre organ music with a twist. You will not go away disappointed!</span></p>\n\n<p style="box-sizing: border-box\; margin: 0px 0px 10px\; color: rgb(51\, 51\, 51)\; font-family: &quot\;Helvetica Neue&quot\;\, Helvetica\, Arial\, sans-serif\; font-size: 14px\; background-color: rgb(255\, 255\, 255)\;">This program benefits the&nbsp\;<a href="http://www.tosdv.org/" rel="noopener noreferrer" style="box-sizing: border-box\; background: transparent\; color: rgb(51\, 122\, 183)\; text-decoration-line: none\;" target="_blank">Theatre Organ Society of the Delaware Valley</a>&nbsp\;(TOSDV) Theatre Pipe Organ Restoration Fund. For additional information visit&nbsp\;<a href="http://www.tosdv.org/" rel="noopener noreferrer" style="box-sizing: border-box\; background: transparent\; color: rgb(51\, 122\, 183)\; text-decoration-line: none\;" target="_blank">TOSDV.org</a>\; email<a href="mailto:tosdvinfo@verizon.net" style="box-sizing: border-box\; background: transparent\; color: rgb(51\, 122\, 183)\; text-decoration-line: none\;">&nbsp\;tosdvinfo@verizon.net</a>\; or call 215-780-0831.</p>\n\n<p style="box-sizing: border-box\; margin: 0px 0px 10px\; color: rgb(51\, 51\, 51)\; font-family: &quot\;Helvetica Neue&quot\;\, Helvetica\, Arial\, sans-serif\; font-size: 14px\; background-color: rgb(255\, 255\, 255)\;">There is plenty of&nbsp\;<a href="https://thecolonialtheatre.com/about-the-colonial/directions-dining/" rel="noopener noreferrer" style="box-sizing: border-box\; background: transparent\; color: rgb(51\, 122\, 183)\; text-decoration-line: none\;" target="_blank">parking</a>&nbsp\;near the theatre\, and it&rsquo\;s free on Sundays!</p>\n
LOCATION:The Colonial Theatre 227 Bridge Street Phoenixville\, PA 19460
UID:e.2183.848845
SEQUENCE:3
DTSTAMP:20260421T061115Z
URL:https://business.tricountyareachamber.com/events/details/theatre-organ-concert-with-pierre-fracalanza-848845
END:VEVENT

END:VCALENDAR
