BEGIN:VCALENDAR
VERSION:2.0
PRODID:-//ChamberMaster//Event Calendar 2.0//EN
METHOD:PUBLISH
X-PUBLISHED-TTL:P3D
REFRESH-INTERVAL:P3D
CALSCALE:GREGORIAN
BEGIN:VEVENT
DTSTART:20250618T133000Z
DTEND:20250618T150000Z
X-MICROSOFT-CDO-ALLDAYEVENT:FALSE
SUMMARY:Tier Gathering
DESCRIPTION:Tier Member Gathering\n\nWednesday\, June 18\, 2025\n\n9:30 -11 AM\n\nHeld at TriCounty Health Plans in Pottstown\n\n2 tickets per Tier Member\nWhy attend?\n\n\n	\n	Exclusive Networking   Connect with fellow Tier Members who are among the Chamber's most engaged and influential professionals and get to know our Visionary Tier Dave Morrison of TriCounty Health Plans.\n	\n	\n	Meet the President   Be one of the first to welcome Harrison Santangelo and hear firsthand his vision for the future of the TriCounty Area Chamber.\n	\n	\n	Strengthen Your Voice   Share your insights\, priorities\, and ideas directly with Chamber leadership.\n	\n	\n	Build Visibility   Enhance your presence within this powerful community of business leaders.\n	\n	Celebrate Together   Mark this exciting new chapter for the Chamber with a collaborative and forward-looking gathering.\n	 Serving - Serving coffee and light breakfast snacks.
X-ALT-DESC;FMTTYPE=text/html:<span style="font-size:20px\;"><span style="font-family:arial\;"><strong>Tier Member Gathering</strong><br />\n<span style="font-size:16px\;">Wednesday\, June 18\, 2025<br />\n9:30 -11 AM<br />\nHeld at TriCounty Health Plans in Pottstown<br />\n2 tickets per Tier Member</span></span></span>\n<p data-end="134" data-start="119"><span style="font-size:20px\;"><span style="font-family:arial\;"><strong data-end="134" data-start="119">Why attend?</strong></span></span></p>\n\n<ul data-end="767" data-start="136">\n	<li data-end="271" data-start="136">\n	<p data-end="271" data-start="138"><span style="font-size:20px\;"><span style="font-family:arial\;"><strong data-end="162" data-start="138">Exclusive Networking</strong> &ndash\; Connect with fellow Tier Members who are among the Chamber&rsquo\;s most engaged and influential professionals and get to know our Visionary Tier Dave Morrison of TriCounty Health Plans.</span></span></p>\n	</li>\n	<li data-end="431" data-start="272">\n	<p data-end="431" data-start="274"><span style="font-size:20px\;"><span style="font-family:arial\;"><strong data-end="296" data-start="274">Meet the President</strong> &ndash\; Be one of the first to welcome <strong data-end="353" data-start="330">Harrison Santangelo</strong> and hear firsthand his vision for the future of the TriCounty Area Chamber.</span></span></p>\n	</li>\n	<li data-end="540" data-start="432">\n	<p data-end="540" data-start="434"><span style="font-size:20px\;"><span style="font-family:arial\;"><strong data-end="459" data-start="434">Strengthen Your Voice</strong> &ndash\; Share your insights\, priorities\, and ideas directly with Chamber leadership.</span></span></p>\n	</li>\n	<li data-end="641" data-start="541">\n	<p data-end="641" data-start="543"><span style="font-size:20px\;"><span style="font-family:arial\;"><strong data-end="563" data-start="543">Build Visibility</strong> &ndash\; Enhance your presence within this powerful community of business leaders.</span></span></p>\n	</li>\n	<li data-end="767" data-start="644"><span style="font-size:20px\;"><span style="font-family:arial\;"><strong data-end="666" data-start="644">Celebrate Together</strong> &ndash\; Mark this exciting new chapter for the Chamber with a collaborative and forward-looking gathering.</span></span></li>\n	<li data-end="767" data-start="644"><span style="font-size:20px\;"><span style="font-family:arial\;">&#8203\;<strong>Serving&nbsp\;</strong>- Serving coffee&nbsp\;and light breakfast snacks.</span></span></li>\n</ul>\n
LOCATION:TriCounty Health Plans\, located at 80 Robinson Street\, Suite D\, in Pottstown\, PA.
UID:e.2183.862170
SEQUENCE:3
DTSTAMP:20260421T083515Z
URL:https://business.tricountyareachamber.com/events/details/tier-gathering-862170
END:VEVENT

END:VCALENDAR
