BEGIN:VCALENDAR
VERSION:2.0
PRODID:-//ChamberMaster//Event Calendar 2.0//EN
METHOD:PUBLISH
X-PUBLISHED-TTL:P3D
REFRESH-INTERVAL:P3D
CALSCALE:GREGORIAN
BEGIN:VEVENT
DTSTART:20170623T123000Z
DTEND:20170623T140000Z
X-MICROSOFT-CDO-ALLDAYEVENT:FALSE
SUMMARY:"Time and Stress Management" Workshop
DESCRIPTION:Want to achieve less stress and more balance in your life? Join Certified Life Coach\, Kathy Opperman\, Pillars of Light and Love/The Empowering U Center\, as she shares techniques\, tricks and life hacks that will empower you to face each day with intention and less stress.
X-ALT-DESC;FMTTYPE=text/html:<span style="font-family:times new roman\,serif\;"><span style="font-size:12.0pt\;">Want to achieve less stress and more balance in your life? Join Certified Life Coach\, <strong>Kathy Opperman</strong><strong>\, Pillars of Light and Love/The Empowering U Center\,</strong> as she shares techniques\, tricks and life hacks that will empower you to face each day with intention and less stress.</span></span>
LOCATION:Chamber Office 152 E. High St.\, Suite 360 Pottstown\, PA 19464
UID:e.2183.847486
SEQUENCE:3
DTSTAMP:20260420T213326Z
URL:https://business.tricountyareachamber.com/events/details/time-and-stress-management-workshop-847486
END:VEVENT

END:VCALENDAR
