BEGIN:VCALENDAR
VERSION:2.0
PRODID:-//ChamberMaster//Event Calendar 2.0//EN
METHOD:PUBLISH
X-PUBLISHED-TTL:P3D
REFRESH-INTERVAL:P3D
CALSCALE:GREGORIAN
BEGIN:VEVENT
DTSTART:20180304T010000Z
DTEND:20180304T031500Z
X-MICROSOFT-CDO-ALLDAYEVENT:FALSE
SUMMARY:"To Kill a Mockingbird"
DESCRIPTION:Set in the Deep South\, Harper Lee's Pulitzer Prize winning novel sees racial injustice envelop a small-town community. Through courage and compassion\, lawyer Atticus Finch seeks the truth\, and his feisty daughter Scout\, a young girl on the cusp of adulthood\, brings new hope to a neighborhood in turmoil. This utterly enchanting and enthralling play captures the warmth and poignancy of this best-loved classic with genuine heart and emotional depth. A story as moving and magical as you could ever hope to find. Poster Design by Justin Nowak\n\nThis production is being made available to school districts for field trips in support of their reading curriculum.\n\nRuns approximately 2 hours with one intermission\n\nContact beth.mcdonnell@steelriver.org for Group Sales\, Field Trips and Discounts
X-ALT-DESC;FMTTYPE=text/html:<p style="box-sizing: border-box\; margin: 0px 0px 26px\; padding: 0px\; color: rgb(51\, 51\, 51)\; font-family: Lato\, sans-serif\; font-size: 16px\; background-color: rgb(255\, 255\, 255)\;">Set in the Deep South\, Harper Lee&rsquo\;s Pulitzer Prize winning novel sees racial injustice envelop a small-town community. Through courage and compassion\, lawyer Atticus Finch seeks the truth\, and his feisty daughter Scout\, a young girl on the cusp of adulthood\, brings new hope to a neighborhood in turmoil. This utterly enchanting and enthralling play captures the warmth and poignancy of this best-loved classic with genuine heart and emotional depth. A story as moving and magical as you could ever hope to find.&nbsp\;<em style="box-sizing: border-box\; margin-bottom: 0px\;">Poster Design by Justin Nowak</em></p>\n\n<p style="box-sizing: border-box\; margin: 0px 0px 26px\; padding: 0px\; color: rgb(51\, 51\, 51)\; font-family: Lato\, sans-serif\; font-size: 16px\; background-color: rgb(255\, 255\, 255)\;"><em style="box-sizing: border-box\; margin-bottom: 0px\;">This production is being made available to school districts for field trips in support of their reading curriculum.</em></p>\n\n<p style="box-sizing: border-box\; margin: 0px 0px 26px\; padding: 0px\; color: rgb(51\, 51\, 51)\; font-family: Lato\, sans-serif\; font-size: 16px\; background-color: rgb(255\, 255\, 255)\;"><em style="box-sizing: border-box\; margin-bottom: 0px\;">Runs approximately 2 hours with one intermission</em></p>\n\n<p style="box-sizing: border-box\; margin: 0px 0px 26px\; padding: 0px\; color: rgb(51\, 51\, 51)\; font-family: Lato\, sans-serif\; font-size: 16px\; background-color: rgb(255\, 255\, 255)\;"><span style="box-sizing: border-box\; font-weight: 700\; margin-bottom: 0px\;">Contact&nbsp\;<a href="mailto:beth.mcdonnell@steelriver.org" rel="noopener" style="box-sizing: border-box\; background: transparent\; transition: all 0.1s ease-in-out\; color: rgb(36\, 131\, 208)\; text-decoration-line: none\; margin-bottom: 0px\;" target="_blank">beth.mcdonnell@steelriver.org</a>&nbsp\;for Group Sales\, Field Trips and Discounts</span></p>\n
LOCATION:Steel River Playhouse 245 E. High Street Pottstown\, PA 19464
UID:e.2183.849160
SEQUENCE:3
DTSTAMP:20260421T123627Z
URL:https://business.tricountyareachamber.com/events/details/to-kill-a-mockingbird-849160
END:VEVENT

END:VCALENDAR
