BEGIN:VCALENDAR
VERSION:2.0
PRODID:-//ChamberMaster//Event Calendar 2.0//EN
METHOD:PUBLISH
X-PUBLISHED-TTL:P3D
REFRESH-INTERVAL:P3D
CALSCALE:GREGORIAN
BEGIN:VEVENT
DTSTART:20221027T150000Z
DTEND:20221027T153000Z
X-MICROSOFT-CDO-ALLDAYEVENT:FALSE
SUMMARY:Tompkins Community Bank Business Fraud Webinar
DESCRIPTION:Join Tompkins Community Bank for a discussion on how to protect your business from fraud and learn more about cyber security.
X-ALT-DESC;FMTTYPE=text/html:Join Tompkins Community Bank for a discussion on how to protect your business from fraud and learn more about cyber security.
LOCATION:This is a virtual event.
UID:e.2183.857945
SEQUENCE:3
DTSTAMP:20260419T130313Z
URL:https://business.tricountyareachamber.com/events/details/tompkins-community-bank-business-fraud-webinar-857945
END:VEVENT

END:VCALENDAR
