BEGIN:VCALENDAR
VERSION:2.0
PRODID:-//ChamberMaster//Event Calendar 2.0//EN
METHOD:PUBLISH
X-PUBLISHED-TTL:P3D
REFRESH-INTERVAL:P3D
CALSCALE:GREGORIAN
BEGIN:VEVENT
DTSTART:20170607T220000Z
DTEND:20170607T233000Z
X-MICROSOFT-CDO-ALLDAYEVENT:FALSE
SUMMARY:Transitional Care Options Panel Discussion
DESCRIPTION:Learn about the different options for a loved one who may need some care.  Time available to meet with individual presenters.\n\n\n\nRSVP by June 2 to info@tcnetwork.org.
X-ALT-DESC;FMTTYPE=text/html:Learn about the different options for a loved one who may need some care.&nbsp\; Time available to meet with individual presenters.<br />\n<br />\nRSVP by June 2 to <a href="mailto:info@tcnetwork.org">info@tcnetwork.org</a>.
LOCATION:Boyertown Area Multi-Service 200 Spring Street Boyertown\, PA 19512
UID:e.2183.847676
SEQUENCE:3
DTSTAMP:20260420T213135Z
URL:https://business.tricountyareachamber.com/events/details/transitional-care-options-panel-discussion-847676
END:VEVENT

END:VCALENDAR
