BEGIN:VCALENDAR
VERSION:2.0
PRODID:-//ChamberMaster//Event Calendar 2.0//EN
METHOD:PUBLISH
X-PUBLISHED-TTL:P3D
REFRESH-INTERVAL:P3D
CALSCALE:GREGORIAN
BEGIN:VEVENT
DTSTART:20161126T150000Z
DTEND:20161126T190000Z
X-MICROSOFT-CDO-ALLDAYEVENT:FALSE
SUMMARY:TREE DECORATING CONTEST
DESCRIPTION:WIN CASH FOR YOUR NON-PROFIT! \n\nCome out and decorate the town with a tree YOUR ORGANIZATION Decorates\, get your friends and family to vote\, ($1 eachvote) and you could WIN CASH for your NON-PROFIT! Visit www.downtownpottstown.org for further details or contact Sheila Dugan 610-323-5400 - Entries MUST be in by November 20\, 2016
X-ALT-DESC;FMTTYPE=text/html:WIN CASH FOR YOUR NON-PROFIT!&nbsp\;<br />\nCome out and decorate the town with a tree YOUR ORGANIZATION Decorates\, get your friends and family to vote\, ($1 eachvote) and you could WIN CASH for your NON-PROFIT! Visit www.downtownpottstown.org for further details or contact Sheila Dugan 610-323-5400 - Entries MUST be in by November 20\, 2016
LOCATION:200 Block of E High St Pottstown\, PA 19464
UID:e.2183.847365
SEQUENCE:3
DTSTAMP:20260422T112640Z
URL:https://business.tricountyareachamber.com/events/details/tree-decorating-contest-847365
END:VEVENT

END:VCALENDAR
