BEGIN:VCALENDAR
VERSION:2.0
PRODID:-//ChamberMaster//Event Calendar 2.0//EN
METHOD:PUBLISH
X-PUBLISHED-TTL:P3D
REFRESH-INTERVAL:P3D
CALSCALE:GREGORIAN
BEGIN:VEVENT
DTSTART:20170615T210000Z
DTEND:20170615T233000Z
X-MICROSOFT-CDO-ALLDAYEVENT:FALSE
SUMMARY:Tri-County Area Women's Roundtable
DESCRIPTION:An evening of empowerment and encouragement for women in the tri-county area.\n\n\n\nKeep Calm and Persevere\n\nToni Miller\, SVEP\, Chief Administrative Officer & CFO\, Boscov's\, will focus on how to embrace life and work\, despite adversity.\n\nToni is a cancer survivor\, she lost her only son when he was 21\, and she lives in the moment! \n\nBecause Toni is speaking\, Boscov's is donating a $100 gift card that will be used for a door prize that evening! \n\n\n\nAlexa Chronister\, Cards For Warriors\, will speak about the project she created and how she persists in life with chronic illness. \n\n\n\nAdditional information can be found on the event flyer - click here! \n\n\n\nSponsorship opportunities available. Contact Kitty Papp at 610-326-2900 or kitty@tricountyareachamber.com.
X-ALT-DESC;FMTTYPE=text/html:<p><strong><em><span style="color:#333333\;"><span style="font-family:arial\,sans-serif\;"><span style="font-size:10.5pt\;">An evening of empowerment and encouragement for women in the tri-county area.</span></span></span></em></strong><br>\n<br>\n<span style="color:#333333\;"><span style="font-family:arial\,sans-serif\;"><span style="font-size:10.0pt\;"><em>Keep Calm and Persevere</em></span></span></span><br>\n<strong><span style="color:#333333\;"><span style="font-family:arial\,sans-serif\;"><span style="font-size:9.0pt\;">Toni Miller</span></span></span></strong><span style="color:#333333\;"><span style="font-family:arial\,sans-serif\;"><span style="font-size:9.0pt\;">\,&nbsp\;SVEP\, Chief Administrative Officer &amp\; CFO\,&nbsp\;Boscov's\, will focus on how to embrace life and work\, despite adversity.<br>\nToni is a cancer survivor\, she lost her only son when he was 21\, and she&nbsp\;<em>lives in the moment</em>!&nbsp\;<br>\nBecause Toni is speaking\, Boscov's is donating a $100 gift card that will be used for a door prize that evening!&nbsp\;<br>\n<br>\n<strong>Alexa&nbsp\;Chronister</strong>\, Cards For Warriors\, will speak about the project she created and how she persists in life with chronic illness.&nbsp\;</span></span></span><br>\n<br>\nAdditional information can be found on the event flyer - <a href="https://chambermaster.blob.core.windows.net/userfiles/UserFiles/chambers/2183/File/2017WomensRoundtableMay.pdf">click here</a>!&nbsp\;<br>\n<br>\n<span style="color:#333333\;"><span style="font-family:arial\,sans-serif\;"><span style="font-size:9.0pt\;">Sponsorship opportunities available. Contact Kitty&nbsp\;Papp&nbsp\;at 610-326-2900 or&nbsp\;<span style="color:#0782C1\;"><a href="mailto:kitty@tricountyareachamber.com">kitty@tricountyareachamber.com</a>.</span></span></span></span></p>\n
LOCATION:Copperfield Inn at Lakeside 594 W. Ridge Pike Limerick\, PA 19468
UID:e.2183.847173
SEQUENCE:3
DTSTAMP:20260420T213705Z
URL:https://business.tricountyareachamber.com/events/details/tri-county-area-women-s-roundtable-01-05-2017-847173
END:VEVENT

END:VCALENDAR
