BEGIN:VCALENDAR
VERSION:2.0
PRODID:-//ChamberMaster//Event Calendar 2.0//EN
METHOD:PUBLISH
X-PUBLISHED-TTL:P3D
REFRESH-INTERVAL:P3D
CALSCALE:GREGORIAN
BEGIN:VEVENT
DTSTART:20160107T220000Z
DTEND:20160108T010000Z
X-MICROSOFT-CDO-ALLDAYEVENT:FALSE
SUMMARY:Tri-County Area Women's Roundtable
DESCRIPTION:Join us for a Power Hour of personal and professional development with fellow women in the tri-county area! Denise Nakano\, weekend anchor for NBC 10 will be the moderator for our panel discussion. Panelists confirmed include: Vali G. Heist\, M.Ed.\, owner of The Clutter Crew\; Annarose Ingarra-Milch\, owner of ROI Training & Consulting\; Melissa Dietrich\, Membership Manager at Longwood Gardens\; and Penny Zenker\, creator of "The P10: Productivity Accelerator System". \n\n\nSponsorship opportunities available. Contact Kitty Papp at 610-326-2900 or kitty@tricountyareachamber.com.
X-ALT-DESC;FMTTYPE=text/html:<p><span style="font-size:12px\;"><span style="font-family:arial\;">Join us for a <strong>Power Hour</strong> of personal and professional development with fellow women in the tri-county area! <strong>Denise Nakano</strong>\, weekend anchor for <strong>NBC 10</strong> will be the moderator for our panel discussion. Panelists confirmed&nbsp\;include: <strong>Vali G. Heist\, M.Ed.\, </strong>owner of The Clutter Crew\; <strong>Annarose Ingarra-Milch\, </strong>owner of ROI Training &amp\; Consulting\; <strong>Melissa Dietrich</strong>\, Membership Manager at Longwood Gardens\;&nbsp\;and <strong>Penny Zenker</strong>\, creator of &ldquo\;The P10: Productivity Accelerator System&rdquo\;.&nbsp\;</span></span></p>\n<br />\n<span style="font-size:12px\;"><span style="font-family:arial\;">Sponsorship opportunities available. Contact Kitty Papp&nbsp\;at 610-326-2900 or <a href="mailto:kitty@tricountyareachamber.com">kitty@tricountyareachamber.com</a>.</span></span>
LOCATION:Spring Hollow Golf Club 3350 Schuylkill Rd. Spring City\, PA 19475
UID:e.2183.845125
SEQUENCE:3
DTSTAMP:20260425T223258Z
URL:https://business.tricountyareachamber.com/events/details/tri-county-area-women-s-roundtable-01-07-2016-845125
END:VEVENT

END:VCALENDAR
