BEGIN:VCALENDAR
VERSION:2.0
PRODID:-//ChamberMaster//Event Calendar 2.0//EN
METHOD:PUBLISH
X-PUBLISHED-TTL:P3D
REFRESH-INTERVAL:P3D
CALSCALE:GREGORIAN
BEGIN:VEVENT
DTSTART:20210121T200000Z
DTEND:20210121T210000Z
X-MICROSOFT-CDO-ALLDAYEVENT:FALSE
SUMMARY:Tri-County Young Professionals Virtual Networking
DESCRIPTION:Connect with Tri-County Young Professionals! Members and non-members are welcome to join us. Meet TCYP committee members and expand your network to other young professionals in the region.\n\n\n\nFor more information on Tri-County Young Professionals\, visit www.leadershiptricounty.org.
X-ALT-DESC;FMTTYPE=text/html:Connect with Tri-County Young Professionals! Members and non-members are welcome to join us. Meet TCYP committee members and expand your network to other young professionals in the region.<br />\n<br />\n<span style="color:034ebd\;"><strong>For more information on Tri-County Young Professionals\, visit <a href="http://www.leadershiptricounty.org">www.leadershiptricounty.org.</a></strong></span>
LOCATION:VIRTUAL | A Zoom link will be sent out prior to the event.
UID:e.2183.856428
SEQUENCE:3
DTSTAMP:20260425T135410Z
URL:https://business.tricountyareachamber.com/events/details/tri-county-young-professionals-virtual-networking-856428
END:VEVENT

END:VCALENDAR
