BEGIN:VCALENDAR
VERSION:2.0
PRODID:-//ChamberMaster//Event Calendar 2.0//EN
METHOD:PUBLISH
X-PUBLISHED-TTL:P3D
REFRESH-INTERVAL:P3D
CALSCALE:GREGORIAN
BEGIN:VEVENT
DTSTART:20171027T220000Z
DTEND:20171027T233000Z
X-MICROSOFT-CDO-ALLDAYEVENT:FALSE
SUMMARY:Trunk or Treat
DESCRIPTION:The Pottstown YMCA will host a safe and fun TRUNK or TREAT trail for the comunity children (ages 12 and under) and their families!\n\n\n\nAdults decorate cars and hand out treats from their trunks. Children dress in their Halloween costumes and have fun!\n\n\n\nThere will be nothing spooky or gruesome!
X-ALT-DESC;FMTTYPE=text/html:The Pottstown YMCA will host a safe and fun TRUNK or TREAT trail for the comunity children (ages 12 and under) and their families!<br />\n<br />\nAdults decorate cars and hand out treats from their trunks. Children dress in their Halloween costumes and have fun!<br />\n<br />\nThere will be nothing spooky or gruesome!
LOCATION:Pottstown YMCA 724 N. Adams St. Pottstown\, PA 19464
UID:e.2183.848782
SEQUENCE:3
DTSTAMP:20260421T042650Z
URL:https://business.tricountyareachamber.com/events/details/trunk-or-treat-848782
END:VEVENT

END:VCALENDAR
