BEGIN:VCALENDAR
VERSION:2.0
PRODID:-//ChamberMaster//Event Calendar 2.0//EN
METHOD:PUBLISH
X-PUBLISHED-TTL:P3D
REFRESH-INTERVAL:P3D
CALSCALE:GREGORIAN
BEGIN:VEVENT
DTSTART:20161105T113000Z
DTEND:20161105T160000Z
X-MICROSOFT-CDO-ALLDAYEVENT:FALSE
SUMMARY:Turkey Trot - 5K RUN/WALK & Kids One Mile RUN
DESCRIPTION:Saint Aloysius Parish School  Kids One Mile Run and 5K.\n\nCome join a family fun event and while achieving yur personal record!\n\nPlus food\, music\, raffles and prizes\n\nRegister online at www.saintaloysiusschool.com\n\nAll proceeds will benefit educational programs at Saint Aloysius Parish School.
X-ALT-DESC;FMTTYPE=text/html:<strong><font color="#000000" face="Calibri" size="3">Saint Aloysius Parish School&nbsp\; Kids One Mile Run and 5K.<br />\nCome join a&nbsp\;family fun event and while achieving yur personal record!</font></strong><br />\n<span style="color:black"><span style="font-size:medium"><span style="font-family:calibri">Plus food\, music\, raffles and prizes</span></span></span><br />\n<strong><span style="color:black"><span style="font-size:medium"><span style="font-family:calibri">Register online at </span></span></span><a href="http://www.saintaloysiusschool.com/"><span style="color:black"><span style="font-size:medium"><span style="font-family:calibri">www.saintaloysiusschool.com</span></span></span></a></strong><br />\n<span style="color:black"><span style="font-size:medium"><span style="font-family:calibri">All proceeds will benefit educational programs at Saint Aloysius Parish School. </span></span></span><br />\n&nbsp\;
LOCATION:Riverfront Park\, Schuylkill River Trail 140 College Drive\, Pottstown\, PA 19464
UID:e.2183.847303
SEQUENCE:3
DTSTAMP:20260422T114121Z
URL:https://business.tricountyareachamber.com/events/details/turkey-trot-5k-run-walk-kids-one-mile-run-847303
END:VEVENT

END:VCALENDAR
