BEGIN:VCALENDAR
VERSION:2.0
PRODID:-//ChamberMaster//Event Calendar 2.0//EN
METHOD:PUBLISH
X-PUBLISHED-TTL:P3D
REFRESH-INTERVAL:P3D
CALSCALE:GREGORIAN
BEGIN:VEVENT
DTSTART:20170816T153000Z
DTEND:20170816T170000Z
X-MICROSOFT-CDO-ALLDAYEVENT:FALSE
SUMMARY:Turn Shoppers Into Customers
DESCRIPTION:On August 16\, 2017\, at 11:30 AM\, the digital marketing experts at DaBrian Marketing invite local retail & Ecommerce businesses to learn how to turn shoppers into customers through effective digital marketing strategies. The event includes an exclusive live-stream from Google representatives.This is only available through participating official Google Partners\, such as DaBrian Marketing Group. The event will be held at the digital agency's office located at 500 Penn Street\, Suite 201\, Reading\, PA 19602.\n\n \n\nDaBrian Marketing Group will provide lunch and additional tips that will help your business increase brand/product awareness\, generate sign-ups\, increase in-store or online sales\, and measure your digital marketing strategies. The team will evaluate your website\, local listings\, or AdWords campaigns to provide recommendations based on increasing your revenue.\n\n\n\nStart turning more shoppers into profitable customers - Register today! Spaces are limited so do not delay
X-ALT-DESC;FMTTYPE=text/html:<span style="font-family:arial\,sans-serif\;"><span style="font-size:9.5pt\;">On </span></span><span style="color:red\;"><span style="font-family:arial\,sans-serif\;"><span style="font-size:9.5pt\;">August 16\, 2017\, at 11:30 AM</span></span></span><span style="font-family:arial\,sans-serif\;"><span style="font-size:9.5pt\;">\, the digital marketing experts at DaBrian Marketing invite local retail &amp\; Ecommerce businesses to learn how to turn shoppers into customers through effective digital marketing strategies. The event includes an exclusive live-stream from Google representatives.This is only available through participating official Google Partners\, such as DaBrian Marketing Group. The event will be held at the digital agency&#39\;s office located at 500 Penn Street\, Suite 201\, Reading\, PA 19602.</span></span><br />\n&nbsp\;<br />\n<span style="font-family:arial\,sans-serif\;"><span style="font-size:9.5pt\;">DaBrian Marketing Group will provide lunch and additional tips that will help your business increase brand/product awareness\, generate sign-ups\, increase in-store or online sales\, and measure your digital marketing strategies. The team will evaluate your website\, local listings\, or AdWords campaigns to provide recommendations based on increasing your revenue.</span></span><br />\n<br />\n<span style="font-family:arial\,sans-serif\;"><span style="font-size:9.5pt\;">Start turning more shoppers into profitable customers - </span></span><span style="font-family:times new roman\,serif\;"><span style="font-size:12.0pt\;"><a href="https://partnersconnect.withgoogle.com/event/dabrian-marketing" style="text-decoration-line:none\;"><span style="font-family:arial\,sans-serif\;"><span style="font-size:9.5pt\;">Register </span></span><span style="color:red\;"><span style="font-family:arial\,sans-serif\;"><span style="font-size:9.5pt\;">today</span></span></span></a></span></span><span style="font-family:arial\,sans-serif\;"><span style="font-size:9.5pt\;">! Spaces are limited so do not delay</span></span>
LOCATION:DaBrian Marketing Group 500 Penn Street\, Suite 201 Reading\, PA 19602
UID:e.2183.848743
SEQUENCE:3
DTSTAMP:20260421T011955Z
URL:https://business.tricountyareachamber.com/events/details/turn-shoppers-into-customers-848743
END:VEVENT

END:VCALENDAR
