BEGIN:VCALENDAR
VERSION:2.0
PRODID:-//ChamberMaster//Event Calendar 2.0//EN
METHOD:PUBLISH
X-PUBLISHED-TTL:P3D
REFRESH-INTERVAL:P3D
CALSCALE:GREGORIAN
BEGIN:VEVENT
DTSTART:20220104T230000Z
DTEND:20220105T000000Z
X-MICROSOFT-CDO-ALLDAYEVENT:FALSE
SUMMARY:Understand Medicare with Curran Estate and Elder Law at Keystone Villa at Douglassville
DESCRIPTION:Keystone Villa at Douglassville is hosting a free\, three-part series featuring Curran Estate and Elder Law PLLC at the independent living community\, located at 1180 Ben Franklin Highway E.\, on Tuesday\, Jan. 4\, from 6-7 p.m. The Medicare maze can be tough to navigate on your own. Join us at Keystone Villa to learn more about Medicare\, open enrollment and maximizing your benefits. Attend in person or follow along online via Zoom! To RSVP\, please call 610-385-5000.
X-ALT-DESC;FMTTYPE=text/html:Keystone Villa at Douglassville is hosting a free\, three-part series featuring Curran Estate and Elder Law PLLC at the independent living community\, located at 1180 Ben Franklin Highway E.\, on Tuesday\, Jan. 4\, from 6-7 p.m. The Medicare maze can be tough to navigate on your own. Join us at Keystone Villa to learn more about Medicare\, open enrollment and maximizing your benefits. Attend in person or follow along online via Zoom! To RSVP\, please call 610-385-5000.
LOCATION:Keystone Villa at Douglassville 1180 Ben Franklin Highway E. Douglassville\, PA
UID:e.2183.856930
SEQUENCE:3
DTSTAMP:20260420T035525Z
URL:https://business.tricountyareachamber.com/events/details/understand-medicare-with-curran-estate-and-elder-law-at-keystone-villa-at-douglassville-856930
END:VEVENT

END:VCALENDAR
