BEGIN:VCALENDAR
VERSION:2.0
PRODID:-//ChamberMaster//Event Calendar 2.0//EN
METHOD:PUBLISH
X-PUBLISHED-TTL:P3D
REFRESH-INTERVAL:P3D
CALSCALE:GREGORIAN
BEGIN:VEVENT
DTSTART:20180214T220000Z
DTEND:20180215T020000Z
X-MICROSOFT-CDO-ALLDAYEVENT:FALSE
SUMMARY:Valentine's Day Dinner
DESCRIPTION:Fall in love all over again over a romantic dinner on Valentine's Day.\n\nTreat your special someone to a delectable pre-fixed menu specially created to give you and your date a memorable fine dining experience.\n\n\n\nReservations are required. Call 484-300-4681 to reserve your table. \n\nView our menu at TheSunnyBrook.com!
X-ALT-DESC;FMTTYPE=text/html:<span style="color: rgb(75\, 79\, 86)\; font-family: Helvetica\, Arial\, sans-serif\; font-size: 14px\; background-color: rgb(255\, 255\, 255)\;">Fall in love all over again over a romantic dinner on Valentine&rsquo\;s Day.</span><br style="color: rgb(75\, 79\, 86)\; font-family: Helvetica\, Arial\, sans-serif\; font-size: 14px\; background-color: rgb(255\, 255\, 255)\;" />\n<span style="color: rgb(75\, 79\, 86)\; font-family: Helvetica\, Arial\, sans-serif\; font-size: 14px\; background-color: rgb(255\, 255\, 255)\;">Treat your special someone to a delectable pre-fixed menu specially created to give you and your date a memorable fine dining experience.</span><br style="color: rgb(75\, 79\, 86)\; font-family: Helvetica\, Arial\, sans-serif\; font-size: 14px\; background-color: rgb(255\, 255\, 255)\;" />\n<br style="color: rgb(75\, 79\, 86)\; font-family: Helvetica\, Arial\, sans-serif\; font-size: 14px\; background-color: rgb(255\, 255\, 255)\;" />\n<span style="color: rgb(75\, 79\, 86)\; font-family: Helvetica\, Arial\, sans-serif\; font-size: 14px\; background-color: rgb(255\, 255\, 255)\;">Reservations are required. Call 484-300-4681 to reserve your table.&nbsp\;</span><br style="color: rgb(75\, 79\, 86)\; font-family: Helvetica\, Arial\, sans-serif\; font-size: 14px\; background-color: rgb(255\, 255\, 255)\;" />\n<span style="color: rgb(75\, 79\, 86)\; font-family: Helvetica\, Arial\, sans-serif\; font-size: 14px\; background-color: rgb(255\, 255\, 255)\;">View our menu at&nbsp\;</span><a data-lynx-mode="async" href="https://l.facebook.com/l.php?u=http%3A%2F%2FTheSunnyBrook.com%2F&amp\;h=ATMwyDIIxvLBQNlvxFKVik_qIcQrE4wJRVr2U_O6bn-iAKH4-OozcV-nGXQMyU_GPonWZ1AcQjV2pLXeOIiyR1knxLxWq-fxwZIXdFJ8J-E43rJg7Fz1yPvicmYOg0PqQPP1X9lZPpmlnx-9heYBLWwOZ1HXd4bGbFYDq7UcjQpyuA" rel="nofollow noopener" style="color: rgb(54\, 88\, 153)\; text-decoration-line: none\; font-family: Helvetica\, Arial\, sans-serif\; font-size: 14px\; background-color: rgb(255\, 255\, 255)\;" target="_blank">TheSunnyBrook.com</a><span style="color: rgb(75\, 79\, 86)\; font-family: Helvetica\, Arial\, sans-serif\; font-size: 14px\; background-color: rgb(255\, 255\, 255)\;">!</span>
LOCATION:Gatsby's at the SunnyBrook Ballroom 50 Sunnybrook Rd. Pottstown\, PA 19464
UID:e.2183.849202
SEQUENCE:3
DTSTAMP:20260421T110224Z
URL:https://business.tricountyareachamber.com/events/details/valentine-s-day-dinner-849202
END:VEVENT

END:VCALENDAR
