BEGIN:VCALENDAR
VERSION:2.0
PRODID:-//ChamberMaster//Event Calendar 2.0//EN
METHOD:PUBLISH
X-PUBLISHED-TTL:P3D
REFRESH-INTERVAL:P3D
CALSCALE:GREGORIAN
BEGIN:VEVENT
DTSTART:20161112T133000Z
DTEND:20161112T154500Z
X-MICROSOFT-CDO-ALLDAYEVENT:FALSE
SUMMARY:Veterans Appreciation Breakfast
DESCRIPTION:Join Senator Bob Mensch for breakfast to honor the military men and women who have served our country. The Guest Speaker will be Brigadier General (Retired) Jerry G. Beck Jr.\, Deputy Adjutant General - Veterans Affairs with the Pennsylvania Department of Military and Veterans Affairs.\n\n\n\nMontgomery County and Bucks County residents can bring their license and copy of DD 214 to receive a Veterans Photo ID Card. Berks County residents can obtain information on getting their Veterans Photo ID Card at the Berks County Recorder of Deeds office.\n\nThe Department of Military and Veterans Affairs will have its mobile van and personnel to answer your questions.\n\n\n\n\n\nVeterans - Please RSVP by Monday\, November 7
X-ALT-DESC;FMTTYPE=text/html:Join Senator Bob Mensch for breakfast to honor the military men and women who have served our country. The Guest Speaker will be Brigadier General (Retired) Jerry G. Beck Jr.\, Deputy Adjutant General - Veterans Affairs with the Pennsylvania Department of Military and Veterans Affairs.<br />\n<br />\nMontgomery County and Bucks County residents can bring their license and copy of DD 214 to receive a Veterans Photo ID Card. Berks County residents can obtain information on getting their Veterans Photo ID Card at the Berks County Recorder of Deeds office.<br />\nThe Department of Military and Veterans Affairs will have its mobile van and personnel to answer your questions.<br />\n<br />\n<br />\n<span style="font-size:16px\;"><u><strong>Veterans - Please RSVP by Monday\, November 7</strong></u></span>
LOCATION:Upper Perkiomen High School Two Walt Road Pennsburg\, PA 18073
UID:e.2183.847268
SEQUENCE:3
DTSTAMP:20260422T112717Z
URL:https://business.tricountyareachamber.com/events/details/veterans-appreciation-breakfast-847268
END:VEVENT

END:VCALENDAR
