BEGIN:VCALENDAR
VERSION:2.0
PRODID:-//ChamberMaster//Event Calendar 2.0//EN
METHOD:PUBLISH
X-PUBLISHED-TTL:P3D
REFRESH-INTERVAL:P3D
CALSCALE:GREGORIAN
BEGIN:VEVENT
DTSTART:20171026T140000Z
DTEND:20171026T170000Z
X-MICROSOFT-CDO-ALLDAYEVENT:FALSE
SUMMARY:Veterans Outreach Van
DESCRIPTION:Rep. Tom Quigley (R-Montgomery) invites veterans and their family members to speak with an accredited veterans service officer at a veterans outreach event that he is hosting on Oct. 26\, from 10 a.m. to 1 p.m at his district office in the Park Towne Plaza (located next to Dollar Tree in the breezeway)\, 301 N. Lewis Road\, Royersford.\n\nTo make benefits more accessible to state veterans and their eligible family members\, the accredited veterans service officer will provide information and assistance to veterans and family members. Benefits available through the Pennsylvania Department of Veterans Affairs\, given appropriate eligibility\, might include service-connected disability compensation\, improved pensions\, death pensions\, VA health care benefits\, burial benefits\, education benefits\, vocational rehabilitation and more. \n\n\n\nThe bus\, where people can meet with the veterans service officer\, will be parked in the parking lot adjacent to Quigley's office off of Oak Street. That same parking lot offers a handicap accessible entrance to his office\, as well. \n\n\n\nIn addition to sharing information about programs to benefit veterans\, the Montgomery County Recorder of Deeds will also be processing veterans discount cards\, which offer discounts for goods and services from more than 400 participating county merchants. To receive a discount card that day\, veterans are asked to bring their original DD214 and photo identification. \n\n\n\nFor more information\, contact Quigley's district office at (610) 792-1280.
X-ALT-DESC;FMTTYPE=text/html:<span style="font-family: Arial\; font-size: 12px\; background-color: rgb(255\, 255\, 255)\;">Rep. Tom Quigley (R-Montgomery) invites veterans and their family members to speak with an accredited veterans service officer at a veterans outreach event that he is hosting on Oct. 26\, from 10 a.m. to 1 p.m at his district office in the Park Towne Plaza (located next to Dollar Tree in the breezeway)\,&nbsp\;</span><a href="https://goo.gl/maps/UukrGKrbm5J2" style="font-family: Arial\; font-size: 12px\; background-color: rgb(255\, 255\, 255)\;" target="_blank">301 N. Lewis Road\, Royersford</a><span style="font-family: Arial\; font-size: 12px\; background-color: rgb(255\, 255\, 255)\;">.<br />\nTo make benefits more accessible to state veterans and their eligible family members\, the accredited veterans service officer will provide information and assistance to veterans and family members. Benefits available through the Pennsylvania Department of Veterans Affairs\, given appropriate eligibility\, might include service-connected disability compensation\, improved pensions\, death pensions\, VA health care benefits\, burial benefits\, education benefits\, vocational rehabilitation and more.&nbsp\;</span><br style="font-family: Arial\; font-size: 12px\; background-color: rgb(255\, 255\, 255)\;" />\n<br style="font-family: Arial\; font-size: 12px\; background-color: rgb(255\, 255\, 255)\;" />\n<span style="font-family: Arial\; font-size: 12px\; background-color: rgb(255\, 255\, 255)\;">The bus\, where people can meet with the veterans service officer\, will be parked in the parking lot adjacent to Quigley&rsquo\;s office off of Oak Street. That same parking lot offers a handicap accessible entrance to his office\, as well.&nbsp\;</span><br style="font-family: Arial\; font-size: 12px\; background-color: rgb(255\, 255\, 255)\;" />\n<br style="font-family: Arial\; font-size: 12px\; background-color: rgb(255\, 255\, 255)\;" />\n<span style="font-family: Arial\; font-size: 12px\; background-color: rgb(255\, 255\, 255)\;">In addition to sharing information about programs to benefit veterans\, the Montgomery County Recorder of Deeds will also be processing veterans discount cards\, which offer discounts for goods and services from more than 400 participating county merchants. To receive a discount card that day\, veterans are asked to bring their original DD214 and photo identification.&nbsp\;</span><br style="font-family: Arial\; font-size: 12px\; background-color: rgb(255\, 255\, 255)\;" />\n<br style="font-family: Arial\; font-size: 12px\; background-color: rgb(255\, 255\, 255)\;" />\n<span style="font-family: Arial\; font-size: 12px\; background-color: rgb(255\, 255\, 255)\;">For more information\, contact Quigley&rsquo\;s district office at (610) 792-1280.&nbsp\;</span>
LOCATION:Park Towne Plaza (located next to Dollar Tree in breezeway) 301 N. Lewis Road Royersford\, PA 19468
UID:e.2183.848797
SEQUENCE:3
DTSTAMP:20260421T043229Z
URL:https://business.tricountyareachamber.com/events/details/veterans-outreach-van-848797
END:VEVENT

END:VCALENDAR
